BEGIN:VCALENDAR
VERSION:2.0
PRODID:-//Universidad Finis Terrae - ECPv6.15.17.1//NONSGML v1.0//EN
CALSCALE:GREGORIAN
METHOD:PUBLISH
X-WR-CALNAME:Universidad Finis Terrae
X-ORIGINAL-URL:https://finis.cl
X-WR-CALDESC:Eventos para Universidad Finis Terrae
REFRESH-INTERVAL;VALUE=DURATION:PT1H
X-Robots-Tag:noindex
X-PUBLISHED-TTL:PT1H
BEGIN:VTIMEZONE
TZID:America/Santiago
BEGIN:STANDARD
TZOFFSETFROM:-0300
TZOFFSETTO:-0400
TZNAME:-04
DTSTART:20240407T030000
END:STANDARD
BEGIN:DAYLIGHT
TZOFFSETFROM:-0400
TZOFFSETTO:-0300
TZNAME:-03
DTSTART:20240908T040000
END:DAYLIGHT
BEGIN:STANDARD
TZOFFSETFROM:-0300
TZOFFSETTO:-0400
TZNAME:-04
DTSTART:20250406T030000
END:STANDARD
BEGIN:DAYLIGHT
TZOFFSETFROM:-0400
TZOFFSETTO:-0300
TZNAME:-03
DTSTART:20250907T040000
END:DAYLIGHT
BEGIN:STANDARD
TZOFFSETFROM:-0300
TZOFFSETTO:-0400
TZNAME:-04
DTSTART:20260405T030000
END:STANDARD
BEGIN:DAYLIGHT
TZOFFSETFROM:-0400
TZOFFSETTO:-0300
TZNAME:-03
DTSTART:20260906T040000
END:DAYLIGHT
END:VTIMEZONE
BEGIN:VEVENT
DTSTART;TZID=America/Santiago:20251108T083000
DTEND;TZID=America/Santiago:20251108T123000
DTSTAMP:20260420T204236
CREATED:20251020T144946Z
LAST-MODIFIED:20251020T163107Z
UID:45014-1762590600-1762605000@finis.cl
SUMMARY:Caminata Finis al Cerro San Cristóbal
DESCRIPTION:La Dirección de Deportes invita a toda la comunidad Finis Terrae estudiantes\, funcionarios y amistades a participar en una caminata recreativa al Cerro San Cristóbal. \nPartiremos desde la Universidad\, ascenderemos juntos hasta la cúspide y luego regresaremos al punto de inicio. Será una jornada para disfrutar el entorno natural\, compartir en grupo y fortalecer el sentido de comunidad que nos une. \nLugar: En la entrada de la Universidad. \nPlazo: Inscripciones hasta el 06 de noviembre. \nINSCRIPCIONES ACÁ
URL:https://finis.cl/agenda/caminata-finis-al-cerro-san-cristobal/
LOCATION:Cerro San Cristóbal
CATEGORIES:Dirección de Deportes,Estudiantes,Vicerrectoría Formación Integral
ATTACH;FMTTYPE=image/jpeg:https://finis.cl/wp-content/uploads/2025/10/Agenda-web-2025-10-20T114902.621.jpg
END:VEVENT
BEGIN:VEVENT
DTSTART;TZID=America/Santiago:20251108T110000
DTEND;TZID=America/Santiago:20251108T130000
DTSTAMP:20260420T204236
CREATED:20251028T211842Z
LAST-MODIFIED:20251028T211842Z
UID:45412-1762599600-1762606800@finis.cl
SUMMARY:Atravieso Urbano: Barrio Huemul
DESCRIPTION:La Escuela de Arquitectura invita al Atravieso Urbano “BARRIO HUEMUL – VESTIGIOS DE UNA POBLACIÓN MODELO “\, guiado por el arquitecto e instructor Víctor Lachira\, quien además es habitante del sector. \nPunto de encuentro: Salida metro Franklin L2 – L6.
URL:https://finis.cl/agenda/atravieso-urbano-barrio-huemul/
CATEGORIES:Arquitectura,Estudiantes,Facultad de Arquitectura, Diseño y Estudios Creativos,Funcionarios,Universidad
ATTACH;FMTTYPE=image/jpeg:https://finis.cl/wp-content/uploads/2025/10/Agenda-web-2025-10-28T181748.334.jpg
END:VEVENT
END:VCALENDAR