BEGIN:VCALENDAR
VERSION:2.0
PRODID:-//Universidad Finis Terrae - ECPv6.15.17.1//NONSGML v1.0//EN
CALSCALE:GREGORIAN
METHOD:PUBLISH
X-WR-CALNAME:Universidad Finis Terrae
X-ORIGINAL-URL:https://finis.cl
X-WR-CALDESC:Eventos para Universidad Finis Terrae
REFRESH-INTERVAL;VALUE=DURATION:PT1H
X-Robots-Tag:noindex
X-PUBLISHED-TTL:PT1H
BEGIN:VTIMEZONE
TZID:America/Santiago
BEGIN:STANDARD
TZOFFSETFROM:-0300
TZOFFSETTO:-0400
TZNAME:-04
DTSTART:20240407T030000
END:STANDARD
BEGIN:DAYLIGHT
TZOFFSETFROM:-0400
TZOFFSETTO:-0300
TZNAME:-03
DTSTART:20240908T040000
END:DAYLIGHT
BEGIN:STANDARD
TZOFFSETFROM:-0300
TZOFFSETTO:-0400
TZNAME:-04
DTSTART:20250406T030000
END:STANDARD
BEGIN:DAYLIGHT
TZOFFSETFROM:-0400
TZOFFSETTO:-0300
TZNAME:-03
DTSTART:20250907T040000
END:DAYLIGHT
BEGIN:STANDARD
TZOFFSETFROM:-0300
TZOFFSETTO:-0400
TZNAME:-04
DTSTART:20260405T030000
END:STANDARD
BEGIN:DAYLIGHT
TZOFFSETFROM:-0400
TZOFFSETTO:-0300
TZNAME:-03
DTSTART:20260906T040000
END:DAYLIGHT
END:VTIMEZONE
BEGIN:VEVENT
DTSTART;TZID=America/Santiago:20251001T080000
DTEND;TZID=America/Santiago:20251031T170000
DTSTAMP:20260420T223836
CREATED:20250925T123457Z
LAST-MODIFIED:20250925T152105Z
UID:43654-1759305600-1761930000@finis.cl
SUMMARY:Postulaciones Programa Yunta - 1er Semestre 2026
DESCRIPTION:Quieres conocer gente de todo el mundo y vivir experiencias únicas en la universidad? ¡Conviértete en padrino o madrina de un estudiante internacional con el programa Yunta! Podrás participar en diferentes y entretenidas actividades durante el semestre\, practicar idiomas\, compartir experiencias y hacer nuevas amistades internacionales sin la necesidad de viajar. ¡Sé parte de esta experiencia!\n\nINSCRIPCIONES ACÁ 
URL:https://finis.cl/agenda/postulaciones-programa-yunta-1er-semestre-2026/
LOCATION:Online
CATEGORIES:Estudiantes,Internacional
ATTACH;FMTTYPE=image/jpeg:https://finis.cl/wp-content/uploads/2025/09/Agenda-web-42.jpg
END:VEVENT
BEGIN:VEVENT
DTSTART;TZID=America/Santiago:20251023T110000
DTEND;TZID=America/Santiago:20251023T120000
DTSTAMP:20260420T223836
CREATED:20251023T131317Z
LAST-MODIFIED:20251023T131317Z
UID:45193-1761217200-1761220800@finis.cl
SUMMARY:Premios Excelencia Académica
DESCRIPTION:La tradicional ceremonia de nuestra Universidad se realizará el jueves 23 de octubre\, a las 11:00 horas\, en el Teatro Finis Terrae. En la oportunidad\, se distinguirá a los alumnos con los mejores promedios de notas de todas las carreras.
URL:https://finis.cl/agenda/premios-excelencia-academica-3/
LOCATION:Teatro Finis Terrae\, Av. Pedro de Valdivia 1509\, Santiago\, Providencia\, 7500986\, Chile
CATEGORIES:Estudiantes,Extensión Cultural,Universidad
ATTACH;FMTTYPE=image/jpeg:https://finis.cl/wp-content/uploads/2025/10/Agenda-web-2025-10-23T101226.191.jpg
END:VEVENT
BEGIN:VEVENT
DTSTART;TZID=America/Santiago:20251023T113000
DTEND;TZID=America/Santiago:20251023T123000
DTSTAMP:20260420T223836
CREATED:20251010T195419Z
LAST-MODIFIED:20251010T195419Z
UID:44578-1761219000-1761222600@finis.cl
SUMMARY:Conversatorio: "A 100 años de La señora Dalloway"
DESCRIPTION:En el marco del centenario de la publicación de la novela Mrs. Dalloway de la escritora inglesa Virginia Woolf\, la Escuela de Literatura les invita a este diálogo interdisciplinario\, moderado por su directora Francisca Lange. \nEXPONEN: \n\nCarolina Brncić\, académica del Departamento de Literatura\, Universidad de Chile: “Non-sense e irreverencia en Freshwater\, ‘a piece for women'”.\nManuel Alvarado\, investigador de Colecciones\, Museo Nacional de Bellas Artes: “Artes visuales y vanguardia en el transitar de La señora Dalloway”.
URL:https://finis.cl/agenda/conversatorio-a-100-anos-de-la-senora-dalloway/
LOCATION:Auditorio B601
CATEGORIES:Estudiantes,Facultad de Humanidades y Comunicaciones,Literatura,U. Finis Terrae
ATTACH;FMTTYPE=image/jpeg:https://finis.cl/wp-content/uploads/2025/10/Agenda-web-2025-10-10T165046.450.jpg
END:VEVENT
END:VCALENDAR