BEGIN:VCALENDAR
VERSION:2.0
PRODID:-//Universidad Finis Terrae - ECPv6.15.17.1//NONSGML v1.0//EN
CALSCALE:GREGORIAN
METHOD:PUBLISH
X-WR-CALNAME:Universidad Finis Terrae
X-ORIGINAL-URL:https://finis.cl
X-WR-CALDESC:Eventos para Universidad Finis Terrae
REFRESH-INTERVAL;VALUE=DURATION:PT1H
X-Robots-Tag:noindex
X-PUBLISHED-TTL:PT1H
BEGIN:VTIMEZONE
TZID:America/Santiago
BEGIN:STANDARD
TZOFFSETFROM:-0300
TZOFFSETTO:-0400
TZNAME:-04
DTSTART:20240407T030000
END:STANDARD
BEGIN:DAYLIGHT
TZOFFSETFROM:-0400
TZOFFSETTO:-0300
TZNAME:-03
DTSTART:20240908T040000
END:DAYLIGHT
BEGIN:STANDARD
TZOFFSETFROM:-0300
TZOFFSETTO:-0400
TZNAME:-04
DTSTART:20250406T030000
END:STANDARD
BEGIN:DAYLIGHT
TZOFFSETFROM:-0400
TZOFFSETTO:-0300
TZNAME:-03
DTSTART:20250907T040000
END:DAYLIGHT
BEGIN:STANDARD
TZOFFSETFROM:-0300
TZOFFSETTO:-0400
TZNAME:-04
DTSTART:20260405T030000
END:STANDARD
BEGIN:DAYLIGHT
TZOFFSETFROM:-0400
TZOFFSETTO:-0300
TZNAME:-03
DTSTART:20260906T040000
END:DAYLIGHT
END:VTIMEZONE
BEGIN:VEVENT
DTSTART;TZID=America/Santiago:20251001T080000
DTEND;TZID=America/Santiago:20251031T170000
DTSTAMP:20260420T223928
CREATED:20250925T123457Z
LAST-MODIFIED:20250925T152105Z
UID:43654-1759305600-1761930000@finis.cl
SUMMARY:Postulaciones Programa Yunta - 1er Semestre 2026
DESCRIPTION:Quieres conocer gente de todo el mundo y vivir experiencias únicas en la universidad? ¡Conviértete en padrino o madrina de un estudiante internacional con el programa Yunta! Podrás participar en diferentes y entretenidas actividades durante el semestre\, practicar idiomas\, compartir experiencias y hacer nuevas amistades internacionales sin la necesidad de viajar. ¡Sé parte de esta experiencia!\n\nINSCRIPCIONES ACÁ 
URL:https://finis.cl/agenda/postulaciones-programa-yunta-1er-semestre-2026/
LOCATION:Online
CATEGORIES:Estudiantes,Internacional
ATTACH;FMTTYPE=image/jpeg:https://finis.cl/wp-content/uploads/2025/09/Agenda-web-42.jpg
END:VEVENT
BEGIN:VEVENT
DTSTART;TZID=America/Santiago:20251006T080000
DTEND;TZID=America/Santiago:20251017T170000
DTSTAMP:20260420T223928
CREATED:20251002T201717Z
LAST-MODIFIED:20251002T201913Z
UID:44206-1759737600-1760720400@finis.cl
SUMMARY:Inicio de Postulaciones para el Programa de Liderazgo Eleva
DESCRIPTION:Formar parte de esta comunidad te preparará para ser un líder capaz de transformar tu entorno. Vivirás nuevas experiencias formativas\, tendrás la oportunidad de crear comunidad\, conocer líderes internacionales y desarrollar habilidades que te ayudarán a crecer en tres dimensiones: humana\, social y profesional. \nFecha: Inscripciones abiertas desde el 6 al 17 de octubre de 2025. \nINSCRIPCIONES ACÁ
URL:https://finis.cl/agenda/inicio-de-postulaciones-para-el-programa-de-liderazgo-eleva/
LOCATION:Online
CATEGORIES:Asuntos Estudiantiles,Estudiantes,Vida universitaria
ATTACH;FMTTYPE=image/png:https://finis.cl/wp-content/uploads/2025/10/Eleva-Newsletter-2026.png
END:VEVENT
BEGIN:VEVENT
DTSTART;TZID=America/Santiago:20251015T100000
DTEND;TZID=America/Santiago:20251015T110000
DTSTAMP:20260420T223928
CREATED:20251007T184645Z
LAST-MODIFIED:20251007T185610Z
UID:44466-1760522400-1760526000@finis.cl
SUMMARY:Simposio: “Educación ciudadana\, intercultural e inclusiva en América Latina: Miradas y aportes de estudiantes investigadores”
DESCRIPTION:La Escuela de Educación de la Facultad de Educación y Ciencias Sociales\, junto al Centro de Investigación en Psicología\, Educación y Familia (CIPEF)\, invita a la comunidad académica de la Universidad Finis Terrae a participar en el Simposio “Educación Ciudadana\, Intercultural e Inclusiva en América Latina: Miradas y Aportes de Estudiantes Investigadores”. \nEl encuentro busca generar un espacio académico de diálogo y reflexión donde confluyan investigaciones emergentes y perspectivas expertas en torno a la educación intercultural e inclusiva en América Latina. A través de un enfoque interdisciplinario\, se propone fortalecer la formación y práctica docente mediante el intercambio de saberes y experiencias. \nDurante la actividad se presentará el libro Educación Intercultural e Inclusiva en América Latina: Trayectorias\, perspectivas y desafíos. El simposio contará con la participación de la Dra. Silvia Romero (Universidad Autónoma de San Luis Potosí\, UASLP) y la Dra. Patricia Soto\, directora de la carrera de Pedagogía en Educación Parvularia de la Facultad de Educación y Ciencias Sociales. \nEXPONEN: \nDra. Silvia Romero: Académica de la Facultad de Psicología de la Universidad Autónoma de San Luis Potosí (UASLP) y miembro del Sistema Nacional de Investigadores. Doctora en Educación por la Universidad de Harvard\, con amplia trayectoria en desarrollo del lenguaje\, alfabetización e inclusión educativa\, y consultora para organismos internacionales como UNESCO y Save the Children. \nDra. Patricia Soto: Directora de la carrera de Pedagogía en Educación Parvularia de la Universidad Finis Terrae. Educadora de Párvulos. Licenciada en Educación y Psicopedagoga por la Pontificia Universidad Católica de Chile. Magíster en Desarrollo Cognitivo (UDP) y en Docencia Universitaria (U. Finis Terrae). Doctora en Ciencias Sociales por FLACSO Argentina. \nINSCRIPCIONES ACÁ 
URL:https://finis.cl/agenda/simposio-educacion-ciudadana-intercultural-e-inclusiva-en-america-latina-miradas-y-aportes-de-estudiantes-investigadores/
LOCATION:Teatro Finis Terrae\, Av. Pedro de Valdivia 1509\, Santiago\, Providencia\, 7500986\, Chile
CATEGORIES:CIPEF,Educación Básica,Educación Parvularia,Estudiantes,Facultad de Educación y Ciencias Sociales
ATTACH;FMTTYPE=image/jpeg:https://finis.cl/wp-content/uploads/2025/10/Agenda-web-99.jpg
END:VEVENT
BEGIN:VEVENT
DTSTART;TZID=America/Santiago:20251015T120000
DTEND;TZID=America/Santiago:20251015T130000
DTSTAMP:20260420T223928
CREATED:20251008T191409Z
LAST-MODIFIED:20251008T191409Z
UID:44511-1760529600-1760533200@finis.cl
SUMMARY:Misa Santa Teresa de Ávila - Patrona de la Dirección de Biblioteca
DESCRIPTION:El miércoles 15 de octubre a las 12:00 hrs. En la Capilla de la Universidad\, se realizará la misa de Santa Teresa de Ávila \, patrona de la Dirección de Biblioteca\, invitamos a toda la comunidad a ser parte de esta ceremonia. \n 
URL:https://finis.cl/agenda/misa-santa-teresa-de-avila-patrona-de-la-direccion-de-biblioteca/
LOCATION:Capilla Finis Terrae
CATEGORIES:Dirección de Biblioteca,Estudiantes,Pastoral
ATTACH;FMTTYPE=image/png:https://finis.cl/wp-content/uploads/2025/10/image-3.png
END:VEVENT
BEGIN:VEVENT
DTSTART;TZID=America/Santiago:20251015T123000
DTEND;TZID=America/Santiago:20251015T133000
DTSTAMP:20260420T223928
CREATED:20251002T193944Z
LAST-MODIFIED:20251002T194022Z
UID:44192-1760531400-1760535000@finis.cl
SUMMARY:Conversatorio: “Aproximación Etnográfica y Práctica Educativa Intradomiciliaria Familiar”
DESCRIPTION:El Centro de Investigación en Psicología\, Educación y Familia (CIPEF) invita a la comunidad académica de la Universidad\nFinis Terrae a participar del Conversatorio “Aproximación Etnográfica y Práctica Educativa Intradomiciliaria Familiar”\, el cual busca reflexionar sobre las posibilidades del enfoque etnográfico en el estudio de la vida familiar y su relación con los procesos educativos\, así como compartir avances metodológicos de investigaciones en curso. \nLa actividad contará con la participación de la Dra. Fernanda Aparecida Oliveira Rodrigues Silva\, profesora de la Universidade Federal de Ouro Preto (Brasil) y pasante postdoctoral en la Facultad de Educación y Ciencias Sociales de la U. Finis Terrae\, quien presentará el método que desarrolla en el marco del proyecto Fondecyt Regular Nº 1250042: “Convivencia Escolar: La formación de Conflictividad y Colaboración en la Relación entre Familias- Escuela desde las Teorías Subjetivas”\, liderado por la Dra. Verónica Gubbins. \nEXPONE: \nDra. Fernanda Oliveira Rodrigues Silva: Profesora del Departamento de Educación de la Universidade Federal de Ouro Preto y del Programa de Postgrado (Maestría y Doctorado). Doctora en Educación por la Universidade Federal de Minas Gerais (UFMG). \nINSCRIPCIONES ACÁ
URL:https://finis.cl/agenda/conversatorio-aproximacion-etnografica-y-practica-educativa-intradomiciliaria-familiar/
LOCATION:Sala B501
CATEGORIES:CIPEF,Estudiantes
ATTACH;FMTTYPE=image/jpeg:https://finis.cl/wp-content/uploads/2025/10/Agenda-web-64.jpg
END:VEVENT
BEGIN:VEVENT
DTSTART;TZID=America/Santiago:20251015T123000
DTEND;TZID=America/Santiago:20251015T133000
DTSTAMP:20260420T223928
CREATED:20251006T200815Z
LAST-MODIFIED:20251013T140457Z
UID:44369-1760531400-1760535000@finis.cl
SUMMARY:Semana del Deporte Finis: Torneo de Futbolito 3x3 y Torneo de Tenis de Mesa
DESCRIPTION:La Dirección de Deportes te invita a vivir dos días llenos de competencia\, diversión y superación. Tendremos tres torneos para que pruebes tu potencia y motivación: Futbolito 3×3\, Tenis de Mesa y Fuerza. ¡Ven a competir y pasarlo bien! \nPROGRAMA: \nTorneo de Futbolito 3×3 y Torneo de Tenis de Mesa \nNo importa tu nivel: lo importante es jugar\, compartir y disfrutar en un ambiente relajado y motivador. ¡Ven a representar a tu carrera y vive el deporte en comunidad!\nFecha: 15 de octubre\nHorario: 12:30 pm\nLugar: Patio Amberes Norte \nINSCRIPCIONES: \nTenis de Mesa ACÁ \nFutbolito 3×3 ACÁ \nSemana del Deporte Finis “El más fuerte Finis” \nVen a desafiar tus límites en el Torneo de Fuerza\, una competencia que pone a prueba tu potencia\, resistencia y determinación. Participa en pruebas individuales en un ambiente motivador\, seguro y lleno de energía. ¡Ven a representar a tu carrera y demuestra tu fuerza con actitud y compañerismo! \nFecha: 17 de octubre\nHorario: 10:00 am\nLugar: Patio Amberes Norte \nINSCRIPCIONES ACÁ  \n 
URL:https://finis.cl/agenda/semana-del-deporte-finis/
LOCATION:Patio Amberes Norte
CATEGORIES:Asuntos Estudiantiles,Dirección de Deportes,Estudiantes,Vicerrectoría Formación Integral,Vida universitaria
ATTACH;FMTTYPE=image/jpeg:https://finis.cl/wp-content/uploads/2025/10/Agenda-web-97.jpg
END:VEVENT
BEGIN:VEVENT
DTSTART;TZID=America/Santiago:20251015T173000
DTEND;TZID=America/Santiago:20251015T183000
DTSTAMP:20260420T223928
CREATED:20250926T220602Z
LAST-MODIFIED:20251014T125328Z
UID:43747-1760549400-1760553000@finis.cl
SUMMARY:Conversatorio “Liberalismo y conservadurismo: debates del siglo XIX chileno”
DESCRIPTION:El siglo XIX fue una época de intensas disputas ideológicas que marcaron el rumbo político\, cultural y social de Chile. Entre el liberalismo y el conservadurismo se tejieron los grandes debates sobre la educación\, la religión\, la ciudadanía y la forma del Estado\, configurando las bases de la república moderna. \nEn este conversatorio\, Rafael Sagredo Baeza\, destacado historiador y Premio Nacional de Historia 2022\, abordará las ideas\, tensiones y transformaciones que definieron ese siglo de cambios y confrontaciones. La conversación será guiada por Joaquín Fernández\, académico de la Escuela de Historia de la Universidad Finis Terrae\, quien orientará el diálogo hacia las preguntas que aún resuenan en nuestra vida republicana. \nAntes del encuentro\, se realizará la donación de cerca de 400 libros sobre historia colonial\, que el profesor Sagredo entregará a la Universidad Finis Terrae\, en un gesto de compromiso con la investigación y la formación histórica. \nExpositor: Dr. Rafael Sagredo\, historiador PUC\, Premio Nacional de Historia 2022.\nModera: Joaquín Fernández\, investigador CIDOC\, académico Escuela de Historia U. Finis Terrae.\nFecha: 15 de octubre\nHora: 17:30 hrs\nLugar: Auditorio C102\, Edificio Pocuro\, Casa Central \nEste espacio invita a estudiantes\, académicos y colegios a reflexionar sobre los orígenes de nuestra vida política y las ideas que siguen moldeando el Chile actual.
URL:https://finis.cl/agenda/conversatorio-liberalismo-y-conservadurismo-debates-del-siglo-xix-chileno/
LOCATION:Auditorio C102
CATEGORIES:Estudiantes,Facultad de Humanidades y Comunicaciones,Historia
ATTACH;FMTTYPE=image/jpeg:https://finis.cl/wp-content/uploads/2025/09/Agenda-web-45.jpg
END:VEVENT
END:VCALENDAR