BEGIN:VCALENDAR
VERSION:2.0
PRODID:-//Universidad Finis Terrae - ECPv6.15.17.1//NONSGML v1.0//EN
CALSCALE:GREGORIAN
METHOD:PUBLISH
X-ORIGINAL-URL:https://finis.cl
X-WR-CALDESC:Eventos para Universidad Finis Terrae
REFRESH-INTERVAL;VALUE=DURATION:PT1H
X-Robots-Tag:noindex
X-PUBLISHED-TTL:PT1H
BEGIN:VTIMEZONE
TZID:America/Santiago
BEGIN:STANDARD
TZOFFSETFROM:-0300
TZOFFSETTO:-0400
TZNAME:-04
DTSTART:20240407T030000
END:STANDARD
BEGIN:DAYLIGHT
TZOFFSETFROM:-0400
TZOFFSETTO:-0300
TZNAME:-03
DTSTART:20240908T040000
END:DAYLIGHT
BEGIN:STANDARD
TZOFFSETFROM:-0300
TZOFFSETTO:-0400
TZNAME:-04
DTSTART:20250406T030000
END:STANDARD
BEGIN:DAYLIGHT
TZOFFSETFROM:-0400
TZOFFSETTO:-0300
TZNAME:-03
DTSTART:20250907T040000
END:DAYLIGHT
BEGIN:STANDARD
TZOFFSETFROM:-0300
TZOFFSETTO:-0400
TZNAME:-04
DTSTART:20260405T030000
END:STANDARD
BEGIN:DAYLIGHT
TZOFFSETFROM:-0400
TZOFFSETTO:-0300
TZNAME:-03
DTSTART:20260906T040000
END:DAYLIGHT
END:VTIMEZONE
BEGIN:VEVENT
DTSTART;TZID=America/Santiago:20251001T080000
DTEND;TZID=America/Santiago:20251031T170000
DTSTAMP:20260420T224257
CREATED:20250925T123457Z
LAST-MODIFIED:20250925T152105Z
UID:43654-1759305600-1761930000@finis.cl
SUMMARY:Postulaciones Programa Yunta - 1er Semestre 2026
DESCRIPTION:Quieres conocer gente de todo el mundo y vivir experiencias únicas en la universidad? ¡Conviértete en padrino o madrina de un estudiante internacional con el programa Yunta! Podrás participar en diferentes y entretenidas actividades durante el semestre\, practicar idiomas\, compartir experiencias y hacer nuevas amistades internacionales sin la necesidad de viajar. ¡Sé parte de esta experiencia!\n\nINSCRIPCIONES ACÁ 
URL:https://finis.cl/agenda/postulaciones-programa-yunta-1er-semestre-2026/
LOCATION:Online
CATEGORIES:Estudiantes,Internacional
ATTACH;FMTTYPE=image/jpeg:https://finis.cl/wp-content/uploads/2025/09/Agenda-web-42.jpg
END:VEVENT
BEGIN:VEVENT
DTSTART;TZID=America/Santiago:20251006T080000
DTEND;TZID=America/Santiago:20251017T170000
DTSTAMP:20260420T224257
CREATED:20251002T201717Z
LAST-MODIFIED:20251002T201913Z
UID:44206-1759737600-1760720400@finis.cl
SUMMARY:Inicio de Postulaciones para el Programa de Liderazgo Eleva
DESCRIPTION:Formar parte de esta comunidad te preparará para ser un líder capaz de transformar tu entorno. Vivirás nuevas experiencias formativas\, tendrás la oportunidad de crear comunidad\, conocer líderes internacionales y desarrollar habilidades que te ayudarán a crecer en tres dimensiones: humana\, social y profesional. \nFecha: Inscripciones abiertas desde el 6 al 17 de octubre de 2025. \nINSCRIPCIONES ACÁ
URL:https://finis.cl/agenda/inicio-de-postulaciones-para-el-programa-de-liderazgo-eleva/
LOCATION:Online
CATEGORIES:Asuntos Estudiantiles,Estudiantes,Vida universitaria
ATTACH;FMTTYPE=image/png:https://finis.cl/wp-content/uploads/2025/10/Eleva-Newsletter-2026.png
END:VEVENT
BEGIN:VEVENT
DTSTART;TZID=America/Santiago:20251009T103000
DTEND;TZID=America/Santiago:20251009T113000
DTSTAMP:20260420T224257
CREATED:20251006T185239Z
LAST-MODIFIED:20251006T185239Z
UID:44355-1760005800-1760009400@finis.cl
SUMMARY:Sí importa: Lanzamiento de Programación del Festival Internacional Teatro a Mil 2026
DESCRIPTION:Carmen Romero Quero\, Directora General de Fundación Teatro a Mil\, y Pablo Pisani\, Head de Asuntos Corporativos de Escondida | BHP\, tienen el agrado de invitar a usted al Lanzamiento de Programación del Festival Internacional Teatro a Mil 2026. \nEl evento se realizará el jueves 9 de octubre a las 10:30 a. m. en la Sala A1 de GAM\, nuestra sede oficial (Av. Libertador Bernardo O’Higgins 227\, Santiago – Metro Universidad Católica). En la ocasión nos acompañarán los presentadores\, auspiciadores\, colaboradores y patrocinadores\, autoridades y artistas nacionales que serán parte de la próxima edición del festival. \n👉 CONFIRMA TU ASISTENCIA AQUÍ\nHasta el 7 de octubre\, 18:00 hrs \nLANZAMIENTO PROGRAMACIÓN\nFESTIVAL INTERNACIONAL TEATRO A MIL 2026 \nEsta versión estará dedicada a Marco Antonio de la Parra\, en reconocimiento a su trayectoria y aporte al teatro chileno. \nAuspician y colaboran:\nMinisterio de las Culturas\, las Artes y el Patrimonio\nLey de Donaciones Culturales\nUNESCO\nTeck\nBancoEstado\nTVN\nBIO-BIO LA RADIO\nMETRO DE SANTIAGO\nticketplus+\nGAM
URL:https://finis.cl/agenda/si-importa-lanzamiento-de-programacion-del-festival-internacional-teatro-a-mil-2026/
LOCATION:Centro Cultural Gabriela Mistral\, Av. Libertador Bernardo O'Higgins 227\, Santiago\, Chile
CATEGORIES:Estudiantes,Teatro Finis Terrae,Universidad
ATTACH;FMTTYPE=image/jpeg:https://finis.cl/wp-content/uploads/2025/10/Agenda-web-95.jpg
END:VEVENT
BEGIN:VEVENT
DTSTART;TZID=America/Santiago:20251009T163000
DTEND;TZID=America/Santiago:20251009T173000
DTSTAMP:20260420T224257
CREATED:20251002T195016Z
LAST-MODIFIED:20251002T195052Z
UID:44199-1760027400-1760031000@finis.cl
SUMMARY:Seminario Economía Conductual Miedo y Codicia: ¿Aliado o enemigo de tus Inversiones?
DESCRIPTION:En 2007\, los economistas Baker & Wurgler comenzaban su paper seminal sobre Finanzas Conductuales con la frase: “La pregunta ya no es si el sentimiento afecta a los precios\, sino cómo medirlo y cuantificar sus efectos”. Desde esta perspectiva\, exploraremos cómo la economía conductual y las finanzas conductuales han mostrado\, en las últimas dos décadas\, la influencia decisiva de las emociones y percepciones colectivas en los mercados financieros. Conoceremos además los avances más recientes de la investigación del Prof. Sanhueza. \nEXPONE: \nAliro Sanhueza Herrera PhD(c): Ingeniero Comercial y Magíster en Finanzas por la Universidad Finis Terrae. PhD(c) en Ciencias de la Administración con mención en Finanzas en la Universidad Diego Portales\, donde además se desempeña como académico. Sus líneas de investigación se centran en la intersección entre finanzas conductuales y pronóstico de fenómenos financieros\, con artículos publicados en revistas WoS de categoría top field. \nINSCRIPCIONES ACÁ
URL:https://finis.cl/agenda/seminario-economia-conductual-miedo-y-codicia-aliado-o-enemigo-de-tus-inversiones/
LOCATION:Auditorio B201
CATEGORIES:Estudiantes,Facultad de Economía y Negocios
ATTACH;FMTTYPE=image/jpeg:https://finis.cl/wp-content/uploads/2025/10/Agenda-web-65.jpg
END:VEVENT
END:VCALENDAR