BEGIN:VCALENDAR
VERSION:2.0
PRODID:-//Universidad Finis Terrae - ECPv6.15.17.1//NONSGML v1.0//EN
CALSCALE:GREGORIAN
METHOD:PUBLISH
X-WR-CALNAME:Universidad Finis Terrae
X-ORIGINAL-URL:https://finis.cl
X-WR-CALDESC:Eventos para Universidad Finis Terrae
REFRESH-INTERVAL;VALUE=DURATION:PT1H
X-Robots-Tag:noindex
X-PUBLISHED-TTL:PT1H
BEGIN:VTIMEZONE
TZID:America/Santiago
BEGIN:STANDARD
TZOFFSETFROM:-0300
TZOFFSETTO:-0400
TZNAME:-04
DTSTART:20240407T030000
END:STANDARD
BEGIN:DAYLIGHT
TZOFFSETFROM:-0400
TZOFFSETTO:-0300
TZNAME:-03
DTSTART:20240908T040000
END:DAYLIGHT
BEGIN:STANDARD
TZOFFSETFROM:-0300
TZOFFSETTO:-0400
TZNAME:-04
DTSTART:20250406T030000
END:STANDARD
BEGIN:DAYLIGHT
TZOFFSETFROM:-0400
TZOFFSETTO:-0300
TZNAME:-03
DTSTART:20250907T040000
END:DAYLIGHT
BEGIN:STANDARD
TZOFFSETFROM:-0300
TZOFFSETTO:-0400
TZNAME:-04
DTSTART:20260405T030000
END:STANDARD
BEGIN:DAYLIGHT
TZOFFSETFROM:-0400
TZOFFSETTO:-0300
TZNAME:-03
DTSTART:20260906T040000
END:DAYLIGHT
END:VTIMEZONE
BEGIN:VEVENT
DTSTART;TZID=America/Santiago:20250929T120000
DTEND;TZID=America/Santiago:20250929T123000
DTSTAMP:20260420T223928
CREATED:20250924T205056Z
LAST-MODIFIED:20250924T205317Z
UID:43626-1759147200-1759149000@finis.cl
SUMMARY:Misa Santa Apolonia - Patrona de la Facultad de Odontología
DESCRIPTION:El lunes 29 de septiembre a las 12:00 hrs. en la Capilla de la Universidad\, se realizará la misa de Santa Apolonia\, patrono de la Facultad de Odontología\, invitamos a toda la comunidad a ser parte de esta ceremonia. \n 
URL:https://finis.cl/agenda/misa-santa-apolonia-patrona-de-la-facultad-de-odontologia/
LOCATION:Capilla Finis Terrae
CATEGORIES:Estudiantes,Facultad de Odontología,Pastoral
ATTACH;FMTTYPE=image/png:https://finis.cl/wp-content/uploads/2025/09/Diseno-sin-titulo-70.png
END:VEVENT
END:VCALENDAR