BEGIN:VCALENDAR
VERSION:2.0
PRODID:-//Universidad Finis Terrae - ECPv6.15.17.1//NONSGML v1.0//EN
CALSCALE:GREGORIAN
METHOD:PUBLISH
X-ORIGINAL-URL:https://finis.cl
X-WR-CALDESC:Eventos para Universidad Finis Terrae
REFRESH-INTERVAL;VALUE=DURATION:PT1H
X-Robots-Tag:noindex
X-PUBLISHED-TTL:PT1H
BEGIN:VTIMEZONE
TZID:America/Santiago
BEGIN:STANDARD
TZOFFSETFROM:-0300
TZOFFSETTO:-0400
TZNAME:-04
DTSTART:20240407T030000
END:STANDARD
BEGIN:DAYLIGHT
TZOFFSETFROM:-0400
TZOFFSETTO:-0300
TZNAME:-03
DTSTART:20240908T040000
END:DAYLIGHT
BEGIN:STANDARD
TZOFFSETFROM:-0300
TZOFFSETTO:-0400
TZNAME:-04
DTSTART:20250406T030000
END:STANDARD
BEGIN:DAYLIGHT
TZOFFSETFROM:-0400
TZOFFSETTO:-0300
TZNAME:-03
DTSTART:20250907T040000
END:DAYLIGHT
BEGIN:STANDARD
TZOFFSETFROM:-0300
TZOFFSETTO:-0400
TZNAME:-04
DTSTART:20260405T030000
END:STANDARD
BEGIN:DAYLIGHT
TZOFFSETFROM:-0400
TZOFFSETTO:-0300
TZNAME:-03
DTSTART:20260906T040000
END:DAYLIGHT
END:VTIMEZONE
BEGIN:VEVENT
DTSTART;TZID=America/Santiago:20251002T110000
DTEND;TZID=America/Santiago:20251002T120000
DTSTAMP:20260423T040401
CREATED:20250917T145739Z
LAST-MODIFIED:20260331T193618Z
UID:43441-1759402800-1759406400@finis.cl
SUMMARY:Ciclo aHA!Cs: Conferencia “Territorios expandidos”
DESCRIPTION:La Vicerrectoría de Investigación\, Innovación y Creación Artística invita a un nuevo encuentro del ciclo de charlas aHA!Cs. En esta oportunidad\, el director de la Escuela de Teatro de la Universidad Finis Terrae\, Francisco Krebs\, dictará la conferencia “Territorios expandidos: interdisciplina y coautoría en la creación escénica contemporánea”. \nEn esta presentación realizará un recorrido por algunos de los proyectos que ha dirigido\, para reflexionar en torno a la importancia del diálogo creativo\, el cruce de formatos y la exploración interdisciplinar. La charla se enmarca en los desafíos y oportunidades que las nuevas tecnologías plantean para las artes escénicas y las industrias creativas en la actualidad. \nTe invitamos a conocer la trayectoria de Francisco Krebs en nuestro portafolio de artistas y creadores Finis Crea. \nOrganiza: Vicerrectoría de Investigación\, Innovación y Creación Artística. \nINSCRIPCIONES: vricad@uft.cl
URL:https://finis.cl/agenda/ciclo-ahacs-octubre/
LOCATION:Auditorio B202
CATEGORIES:Ciclos,Creación artística,Vicerrectoría Investigación
ATTACH;FMTTYPE=image/jpeg:https://finis.cl/wp-content/uploads/2025/09/Agenda-web-32.jpg
END:VEVENT
BEGIN:VEVENT
DTSTART;TZID=America/Santiago:20251002T140000
DTEND;TZID=America/Santiago:20251002T150000
DTSTAMP:20260423T040401
CREATED:20250917T145308Z
LAST-MODIFIED:20250917T145308Z
UID:43437-1759413600-1759417200@finis.cl
SUMMARY:Lanzamiento Revista Diagrama N° 8
DESCRIPTION:El Comité Editorial de la Revista Diagrama invita al lanzamiento de su octavo número\, dedicado al tratamiento de la temporalidad en la creación artística a partir de la búsqueda de soluciones representacionales y experienciales. \nPARTICIPAN: \nCristián Opazo: Director Alterno del Núcleo Milenio Arte\, Performatividad & Activismo Chair (PUC). Posdoctor en Estudios Culturales Latinoamericanos\, King’s College London\, Reino Unido. \nFernando Pérez Villalón: Director del Doctorado en Estudios Mediales\, UAH. Doctor en Literatura Comparada\, Universidad de Nueva York. \nCreada por un grupo de académicos y artistas de la Facultad de Artes de la Universidad Finis Terrae\, la revista Diagrama explora y difunde el conocimiento sobre las prácticas artísticas como proceso de investigación. Con un enfoque en las artes visuales y el teatro\, también abarca experiencias de investigación multidisciplinaria\, interdisciplinaria y transdisciplinaria. \nLUGAR: \nSala de Exposiciones\, Escuela de Artes Visuales\, Facultad de Artes\, Universidad Finis Terrae. Av. Pedro de Valdivia 1646\, Providencia. \nORGANIZAN: \nComité editorial de Revista Diagrama\, Facultad de Artes y la Dirección de Creación Artística. Universidad Finis Terrae.
URL:https://finis.cl/agenda/lanzamiento-revista-diagrama-n-8/
LOCATION:Sala de Exposiciones
CATEGORIES:Creación artística,Facultad de Artes
ATTACH;FMTTYPE=image/jpeg:https://finis.cl/wp-content/uploads/2025/09/Agenda-web-31.jpg
END:VEVENT
BEGIN:VEVENT
DTSTART;TZID=America/Santiago:20251002T203000
DTEND;TZID=America/Santiago:20251005T213000
DTSTAMP:20260423T040401
CREATED:20250903T173622Z
LAST-MODIFIED:20251001T125522Z
UID:42662-1759437000-1759699800@finis.cl
SUMMARY:Teatro Finis Terrae | "Bodas de sangre"
DESCRIPTION:La fuerza poética de Federico García Lorca \nBajo la puesta en escena de la destacada directora Mariana Muñoz\, junto a un gran elenco de actores-músicos-cantantes\, Lorena Bosch\, Marcela Millie\, Paulina Cortés\, Gabriela Arancibia\, Jorge Arecheta\, Mauricio Flores\, Moisés Angulo\, Mario Avillo y Juan Pablo Villanueva\, llega una de las obras más emblemáticas del teatro universal del gran dramaturgo y poeta español Federico García Lorca. Bodas de sangre es una tragedia de amor que conmueve al espectador por su fuerza poética y simbólica. \n📅 02 al 26 octubre 2025\n🕒 Jue y vie 20:30 hrs. | Sáb y dom 19:00 hrs.\n📍 Teatro Finis Terrae (Av. Pocuro 1935\, Providencia) \nEsta gran Producción Finis Terrae es la segunda obra de esta casa de estudios financiada por el Programa Apoyo a los Teatros Universitarios del Ministerio de las Culturas\, las Artes y el Patrimonio. \nVALORES ENTRADAS \n\nPreventa 1 Limited Ticket 50% dcto hasta el 14 de sept. (*dcto sobre entrada general)\nPreventa 2 Early Ticket 23% dcto hasta el 01 de oct. (*dcto sobre entrada general)\nValor $ 13.000 GENERAL\n$ 8.450 (35% dcto.) ADULTO MAYOR\n$ 6.500 (50% dcto.) ESTUDIANTE\n$ 6.500 (50% dcto.) Súper Jueve\nTarjeta vecino Providencia y otros descuentos AQUÍ\nEntradas por Ticketplus\n\nSobre “Bodas de sangre”\nA más de 90 años de su estreno en Madrid dirigida por el propio Federico García Lorca\, esta nueva puesta en escena de Mariana Muñoz invita a una reflexión actualizada de nuestros vínculos con nuestra tradición folclórica y popular. \nBodas de sangre es sin duda una de las obras más emblemáticas del teatro universal del gran dramaturgo y poeta español Federico García Lorca\, escrita en 1931-1932 y estrenada en 1933 en Madrid.\nDos amantes pertenecientes a familias enemigas se fugan a caballo por el bosque en la boda de la mujer con su novio. Y como toda tragedia\, la venganza lleva a un desenlace fatal. La obra retrata temas como los matrimonios por conveniencia\, la violencia machista\, el honor y la venganza\, pero al mismo tiempo exalta el amor como una fuerza liberadora y creadora. \nBodas de sangre emociona y conmueve al espectador por su belleza y su tragedia. El valor artístico y su relevancia temática y dramática\, escrita en prosa y verso\, es una de las características esenciales de los dramas de García Lorca con su extraordinaria potencia poética. Las imágenes evocadoras transportarán al espectador a las profundidades de la emociones humanas y sus fricciones con las estructuras sociales de los pueblos y su cultura campesina. \nEl trabajo artístico\, poético y musical que realizó Federico García Lorca encuentra coincidencias locales en grandes figuras de la cultura chilena como Violeta Parra y Margot Loyola\, por lo que promueve una reflexión actualizada de nuestros vínculos con nuestra tradición folclórica y popular. \nEn ese sentido\, la destacada directora nacional Mariana Muñoz (“Amores de cantina”; “Los papeleros”) recoge justamente esa fuerza poética de la obra de García Lorca y la lleva a escena con su característico sello personal de “Cancionero Dramático”: una propuesta escénica-musical en que la música y el teatro se fusionan para crear una experiencia colectiva popular. \n\nEdad recomendada: Adultos y todo espectador con criterio formado +14\nDuración: 1h20\n\nMediaciones\n\nTras la función del 03 de octubre\, el público podrá participar en un conversatorio con la directora y parte del elenco\, moderado por el académico Federico Zurita. Más información AQUÍ\n\n\n Tras la función de las 19.30 horas del 04 de octubre habrá un encuentro especial para adultos mayores de Providencia junto a Marco Antonio de la Parra y Ana María Maza\, en colaboración con el Festival de Teatro Adulto Mayor de Providencia y el Centro Cultural de España.
URL:https://finis.cl/agenda/teatro-finis-terrae-bodas-de-sangre/
LOCATION:Teatro Finis Terrae\, Av. Pedro de Valdivia 1509\, Santiago\, Providencia\, 7500986\, Chile
CATEGORIES:Actuación,Creación artística,Extensión Cultural,Facultad de Artes,Teatro Finis Terrae
ATTACH;FMTTYPE=image/jpeg:https://finis.cl/wp-content/uploads/2025/09/Agenda-web-3.jpg
END:VEVENT
BEGIN:VEVENT
DTSTART;TZID=America/Santiago:20251003T203000
DTEND;TZID=America/Santiago:20251003T213000
DTSTAMP:20260423T040401
CREATED:20250923T183624Z
LAST-MODIFIED:20251001T125358Z
UID:43542-1759523400-1759527000@finis.cl
SUMMARY:Bodas de sangre + conversatorio
DESCRIPTION:Reflexionar y dialogar en torno a los grandes clásicos teatrales es una oportunidad para profundizar en sus temáticas y procesos creativos. Con ese espíritu\, tras la función de Bodas de sangre del 3 de octubre se realizará un conversatorio con la directora Mariana Muñoz y parte del elenco —Mario Avillo\, Lorena Bosch y Gabriela Arancibia— que será moderado por el académico de la Escuela de Teatro Federico Zurita. \nINSCRIPCIONES ACÁ  \nEsta actividad se desarrolla en el marco del programa reCREA y del Proyecto Teatro Universitario Finis Terrae con el objetivo de generar experiencias significativas para nuestra comunidad. Para ello\, se dispondrá de 20 entradas dobles exclusivas dirigidas a quienes han participado en estas iniciativas. \nLa instancia forma parte de las acciones de mediación cultural y formación de públicos impulsadas por la Dirección de Creación Artística de la Universidad Finis Terrae. \nSobre “Bodas de sangre”\nA más de 90 años de su estreno en Madrid bajo la dirección de Federico García Lorca\, Bodas de sangre llega en la versión de Mariana Muñoz\, quien actualiza su fuerza poética mediante el “Cancionero Dramático”\, una puesta en escena que entrelaza música y teatro en una experiencia colectiva. \nLa trama sigue a dos amantes de familias enemigas que se fugan a caballo el mismo día de la boda de la mujer con su prometido; la venganza empuja la historia hacia un desenlace fatal. La pieza aborda los matrimonios por conveniencia\, la violencia machista\, el honor y la venganza\, y a la vez afirma el amor como fuerza liberadora y creadora. \n\nUna producción Universidad Finis Terrae 2025.\nParticipan: Escuela de Teatro de la Facultad de Artes\, Teatro Finis Terrae y Dirección de Creación Artística\nProyecto financiado por la Convocatoria Pública 2024 de Teatros Universitarios del Ministerio de las Culturas\, las Artes y el Patrimonio.\n\n 
URL:https://finis.cl/agenda/bodas-de-sangre-conversatorio/
LOCATION:Teatro Finis Terrae\, Av. Pedro de Valdivia 1509\, Santiago\, Providencia\, 7500986\, Chile
CATEGORIES:Actuación,Creación artística,Estudiantes,Extensión Cultural,Facultad de Artes,Teatro Finis Terrae,Vicerrectoría de Vinculación,Vicerrectoría Investigación
ATTACH;FMTTYPE=image/jpeg:https://finis.cl/wp-content/uploads/2025/09/Agenda-web-33-1.jpg
END:VEVENT
BEGIN:VEVENT
DTSTART;TZID=America/Santiago:20251017T110000
DTEND;TZID=America/Santiago:20251017T120000
DTSTAMP:20260423T040401
CREATED:20251006T191219Z
LAST-MODIFIED:20251006T191219Z
UID:44361-1760698800-1760702400@finis.cl
SUMMARY:reCREA te invita al Museo Nacional de Bellas Artes\, MNBA
DESCRIPTION:reCREA sale de la universidad para visitar el Museo Nacional de Bellas Artes. En esta oportunidad\, los estudiantes podrán participar de una visita guiada por el artista y académico de la Facultad de Artes de la U. Finis Terrae\, César Gabler\, quien nos llevará a conocer dos exposiciones recién inauguradas: 145 años. Historias de una Colección y la muestra complementaria dedicada al artista chileno Roberto Matta. \nLa actividad propone acercar a los estudiantes al patrimonio artístico nacional\, revisando parte del acervo del museo y reconociendo a los artistas que le han dado vida a la historia del arte nacional. \nCon una trayectoria que cruza la práctica artística\, la docencia y la curatoría\, César Gabler es licenciado en Arte por la Universidad Católica de Chile y magíster en Artes Visuales por la Universidad de Chile. Se ha desempeñado también como curador en espacios como Galería Metales Pesados\, Open Dark y Matucana 100\, y ha realizado proyectos de difusión audiovisual como Los Artistas no Saben Hablar\, La Edad Media en el Arte y\, Figura y Fondo. \n📅 Fecha: Viernes 17 de octubre\n🕚 Horario: 11:00 horas (Frontis de la Facultad de Artes\, U. Finis Terrae)\n📍 Lugar: Museo Nacional de Bellas Artes\, Santiago (actividad presencial\, previa inscripción) \nINSCRIPCIONES ACÁ
URL:https://finis.cl/agenda/recrea-te-invita-al-museo-nacional-de-bellas-artes-mnba/
LOCATION:Museo Nacional de Bellas Artes
CATEGORIES:Creación artística,Estudiantes,Facultad de Artes,Vicerrectoría Investigación,Vicerrectoría Vinculación con el Medio
ATTACH;FMTTYPE=image/jpeg:https://finis.cl/wp-content/uploads/2025/10/Agenda-web-96.jpg
END:VEVENT
BEGIN:VEVENT
DTSTART;TZID=America/Santiago:20251020T110000
DTEND;TZID=America/Santiago:20251020T120000
DTSTAMP:20260423T040401
CREATED:20250929T194941Z
LAST-MODIFIED:20251001T183236Z
UID:43805-1760958000-1760961600@finis.cl
SUMMARY:Exposición fotográfica Retratos Descentrados: Rompiendo fronteras entre género y trabajo
DESCRIPTION:La exposición “Retratos descentrados” invita a reflexionar sobre las desigualdades de género en el mundo laboral\, visibilizando las historias de mujeres y hombres que han desafiado los roles tradicionales e ingresado a oficios históricamente considerados atípicos para su género. A través de imágenes y testimonios\, la muestra aborda cómo se transforman\, resisten y cuestionan estas brechas en la vida cotidiana. \nLa exhibición forma parte de los resultados del proyecto Anillo ATE220051 Des-centrando\, desarrollado entre 2023 y 2025\, con la participación de 50 trabajadores de distintas localidades de la Región de Valparaíso. Sus relatos permiten conocer trayectorias marcadas por esfuerzo\, sacrificio y también orgullo\, revelando la compleja relación entre trabajo\, género y vida familiar. \nLa inauguración se realizará el lunes 20 de octubre\, a las 11:00 hrs.\, en el hall del Edificio Pocuro\, con la participación de la Dra. Alejandra Ramm\, directora del proyecto. \nLa exposición estará abierta al público entre el 16 de octubre y el 7 de noviembre de 2025\, en el hall del Edificio Pocuro\, en Casa Central U. Finis Terrae\, Providencia. \nPRESENTAN: \n\nDra. Alejandra Ramm\, directora del proyecto Anillo ATE220051: “Descentrando: desigualdades\, género\, territorios”. Académica de la Universidad de Valparaíso\, Escuela de Sociología.\nDra. Rosario Undurraga\, académica de la Escuela de Ciencias de la Familia y del Doctorado en Educación de la Universidad Finis Terrae. Investigadora principal proyecto Anillo ATE220051\nMateus Coelho. Investigador postdoctoral del proyecto Anillo “Des-Centrando”. Fotografía y edición.\n\nORGANIZAN: \n\nDirección de Creación Artística (VRICAD)\nCentro de Investigación en Psicología\, Educación y Familia (CIPEF)\n\nPara más información sobre el proyecto\, ingresa ACÁ
URL:https://finis.cl/agenda/retratos-descentrados-rompiendo-fronteras-entre-genero-y-trabajo/
LOCATION:Hall Edificio Pocuro
CATEGORIES:CIPEF,Creación artística,Estudiantes,Vicerrectoría Investigación
ATTACH;FMTTYPE=image/jpeg:https://finis.cl/wp-content/uploads/2025/09/Agenda-web-48.jpg
END:VEVENT
BEGIN:VEVENT
DTSTART;TZID=America/Santiago:20251029T124000
DTEND;TZID=America/Santiago:20251029T134000
DTSTAMP:20260423T040401
CREATED:20251023T132953Z
LAST-MODIFIED:20260331T193615Z
UID:45191-1761741600-1761745200@finis.cl
SUMMARY:Ciclo aHA!Cs “Historia de las bases de datos: un viaje en el tiempo”
DESCRIPTION:Vicerrectoría de Investigación\, Innovación y Creación Artística invita a un nuevo encuentro del ciclo de charlas aHA!Cs. En esta oportunidad\, la decana de la Facultad de Ingeniería\, Dra. Angélica Urrutia\, presentará la exposición “Historia de las bases de datos: un viaje en el tiempo”\, una instancia que recorre la evolución de esta disciplina desde sus primeros modelos hasta la experiencia personal de la académica en el área. \nA través de su trayectoria como investigadora y mujer en el ámbito de la ingeniería\, la Dra. Urrutia ofrecerá una mirada reflexiva sobre cómo las bases de datos han transformado nuestra relación con la información y su impacto en la sociedad actual y las nuevas tecnologías.
URL:https://finis.cl/agenda/charla-historia-de-las-bases-de-datos-un-viaje-en-el-tiempo/
LOCATION:Auditorio B202
CATEGORIES:Ciclos,Creación artística,Extensión Cultural,Universidad,Vicerrectoría Investigación
ATTACH;FMTTYPE=image/jpeg:https://finis.cl/wp-content/uploads/2025/10/Agenda-web-2025-10-23T102644.757.jpg
END:VEVENT
END:VCALENDAR