BEGIN:VCALENDAR
VERSION:2.0
PRODID:-//Universidad Finis Terrae - ECPv6.15.17.1//NONSGML v1.0//EN
CALSCALE:GREGORIAN
METHOD:PUBLISH
X-WR-CALNAME:Universidad Finis Terrae
X-ORIGINAL-URL:https://finis.cl
X-WR-CALDESC:Eventos para Universidad Finis Terrae
REFRESH-INTERVAL;VALUE=DURATION:PT1H
X-Robots-Tag:noindex
X-PUBLISHED-TTL:PT1H
BEGIN:VTIMEZONE
TZID:America/Santiago
BEGIN:STANDARD
TZOFFSETFROM:-0300
TZOFFSETTO:-0400
TZNAME:-04
DTSTART:20240407T030000
END:STANDARD
BEGIN:DAYLIGHT
TZOFFSETFROM:-0400
TZOFFSETTO:-0300
TZNAME:-03
DTSTART:20240908T040000
END:DAYLIGHT
BEGIN:STANDARD
TZOFFSETFROM:-0300
TZOFFSETTO:-0400
TZNAME:-04
DTSTART:20250406T030000
END:STANDARD
BEGIN:DAYLIGHT
TZOFFSETFROM:-0400
TZOFFSETTO:-0300
TZNAME:-03
DTSTART:20250907T040000
END:DAYLIGHT
BEGIN:STANDARD
TZOFFSETFROM:-0300
TZOFFSETTO:-0400
TZNAME:-04
DTSTART:20260405T030000
END:STANDARD
BEGIN:DAYLIGHT
TZOFFSETFROM:-0400
TZOFFSETTO:-0300
TZNAME:-03
DTSTART:20260906T040000
END:DAYLIGHT
END:VTIMEZONE
BEGIN:VEVENT
DTSTART;TZID=America/Santiago:20250605T133000
DTEND;TZID=America/Santiago:20250605T235900
DTSTAMP:20260423T103916
CREATED:20250715T153450Z
LAST-MODIFIED:20250715T153450Z
UID:39379-1749130200-1749167940@finis.cl
SUMMARY:Exposición: “Micro-ópticas multiespecies”
DESCRIPTION:Esta muestra patrocinada por el Fondo de Creación Estudiantil de la Vicerrectoría de Investigación\, Creación y Doctorado\, es una instalación interdisciplinar que aborda desde las herramientas del arte y la arquitectura una narrativa visual de la polinización en el valle de Santiago. \nEsta exposición\, que se inaugura en el marco del Día Internacional del medioambiente\, tiene como responsable a la docente de Arquitectura Belén Salvatierra\, quien desarrolló el proyecto junto a estudiantes de las carreras de Psicología\, Medicina y Arquitectura.
URL:https://finis.cl/agenda/exposicion-micro-opticas-multiespecies/
CATEGORIES:Creación artística,Facultad de Arquitectura, Diseño y Estudios Creativos,Vicerrectoría Investigación
END:VEVENT
BEGIN:VEVENT
DTSTART;TZID=America/Santiago:20250624T170000
DTEND;TZID=America/Santiago:20250625T180000
DTSTAMP:20260423T103916
CREATED:20250715T153403Z
LAST-MODIFIED:20250715T153403Z
UID:39349-1750784400-1750874400@finis.cl
SUMMARY:reCrea Lab: Taller de postulación a Fondos Culturales
DESCRIPTION:Si tienes una idea creativa o un proyecto en desarrollo\, este taller es para ti. Con herramientas prácticas\, orientación personalizada y expertos del área\, te ayudaremos a prepararte para postular con éxito a los Fondos de Cultura 2026. \nEXPONEN: \nPía Acevedo: Doctora en Arquitectura y Estudios Urbanos. Magíster en Gestión Cultural. \nBernardo Herrera: Magíster en Gestión y Tecnología. Asesor en planificación estratégica y financiamiento público. \nAmbas actividades son gratuitas y con cupos limitados. ¡No te pierdas esta oportunidad de ampliar tu visión y fortalecer tus capacidades para crear\, pensar y postular! \nActividad gratuita con inscripción previa | Inscríbete aquí
URL:https://finis.cl/agenda/recrea-lab-taller-de-postulacion-a-fondos-culturales/
CATEGORIES:Creación artística,Vicerrectoría Investigación
END:VEVENT
BEGIN:VEVENT
DTSTART;TZID=America/Santiago:20250626T113000
DTEND;TZID=America/Santiago:20250626T235900
DTSTAMP:20260423T103916
CREATED:20250715T153439Z
LAST-MODIFIED:20260331T193640Z
UID:39361-1750937400-1750982340@finis.cl
SUMMARY:Ciclo aHA!Cs: “¿Cómo nos tratamos en el trabajo? La persona en el Derecho del Trabajo”
DESCRIPTION:La Vicerrectoría de Investigación\, Innovación y Creación Artística invita a una nueva sesión del ciclo aHA!Cs 2025\, que contará con la participación de la académica e investigadora Dra. Lucía Debesa Arregui\, de la Facultad de Derecho de la Universidad Finis Terrae. \nEn esta cuarta sesión\, la profesora Debesa abordará los cruces entre su trayectoria profesional y su experiencia en la investigación\, compartiendo las preguntas que han guiado su línea de estudio: ¿qué entendemos por acoso laboral?\, ¿cómo se identifican sus signos?\, ¿qué transformaciones introduce la Ley Karin en los espacios de trabajo y en la práctica judicial? \nLa presentación será una oportunidad para dialogar sobre relaciones interpersonales en entornos laborales\, conflictos\, prevención y el rol de las instituciones frente a estas problemáticas. Una instancia dirigida a toda la comunidad académica interesadas en reflexionar sobre el trabajo desde una perspectiva humana.
URL:https://finis.cl/agenda/ciclo-ahacs-como-nos-tratamos-en-el-trabajo-la-persona-en-el-derecho-del-trabajo/
CATEGORIES:Ciclos,Creación artística,Vicerrectoría Investigación
END:VEVENT
BEGIN:VEVENT
DTSTART;TZID=America/Santiago:20250626T160000
DTEND;TZID=America/Santiago:20250626T235900
DTSTAMP:20260423T103916
CREATED:20250715T153404Z
LAST-MODIFIED:20250715T153404Z
UID:39350-1750953600-1750982340@finis.cl
SUMMARY:Masterclass: “Arte Contemporáneo en Chile”
DESCRIPTION:Una oportunidad única para recorrer los hitos\, obras y artistas que han marcado el arte contemporáneo nacional\, de la mano de la destacada artista y académica Camila Alegría. \nEXPONE: \nCamila Alegría es artista visual con máster en Creación Artística. Ha publicado en medios como Artishock\, Revista Simone y Revista Rosa\, y es académica en la Universidad Finis Terrae. \nCupos limitados (30 personas) | Inscríbete aquí
URL:https://finis.cl/agenda/masterclass-arte-contemporaneo-en-chile/
CATEGORIES:Creación artística,Vicerrectoría Investigación
END:VEVENT
END:VCALENDAR