BEGIN:VCALENDAR
VERSION:2.0
PRODID:-//Universidad Finis Terrae - ECPv6.15.17.1//NONSGML v1.0//EN
CALSCALE:GREGORIAN
METHOD:PUBLISH
X-ORIGINAL-URL:https://finis.cl
X-WR-CALDESC:Eventos para Universidad Finis Terrae
REFRESH-INTERVAL;VALUE=DURATION:PT1H
X-Robots-Tag:noindex
X-PUBLISHED-TTL:PT1H
BEGIN:VTIMEZONE
TZID:America/Santiago
BEGIN:STANDARD
TZOFFSETFROM:-0300
TZOFFSETTO:-0400
TZNAME:-04
DTSTART:20240407T030000
END:STANDARD
BEGIN:DAYLIGHT
TZOFFSETFROM:-0400
TZOFFSETTO:-0300
TZNAME:-03
DTSTART:20240908T040000
END:DAYLIGHT
BEGIN:STANDARD
TZOFFSETFROM:-0300
TZOFFSETTO:-0400
TZNAME:-04
DTSTART:20250406T030000
END:STANDARD
BEGIN:DAYLIGHT
TZOFFSETFROM:-0400
TZOFFSETTO:-0300
TZNAME:-03
DTSTART:20250907T040000
END:DAYLIGHT
BEGIN:STANDARD
TZOFFSETFROM:-0300
TZOFFSETTO:-0400
TZNAME:-04
DTSTART:20260405T030000
END:STANDARD
BEGIN:DAYLIGHT
TZOFFSETFROM:-0400
TZOFFSETTO:-0300
TZNAME:-03
DTSTART:20260906T040000
END:DAYLIGHT
END:VTIMEZONE
BEGIN:VEVENT
DTSTART;TZID=America/Santiago:20250424T113000
DTEND;TZID=America/Santiago:20250424T235900
DTSTAMP:20260423T135400
CREATED:20250715T153615Z
LAST-MODIFIED:20260331T193639Z
UID:39458-1745494200-1745539140@finis.cl
SUMMARY:Ciclo aHA!Cs 2025: “¿Qué comemos? El camino del saber y los sabores en la salud”
DESCRIPTION:Les extendemos una cordial invitación a la segunda conferencia del ciclo aHA!Cs 2025 – Expediciones Académicas\, que se realizará el jueves 24 de abril a las 11:30 horas\, en la sala C101 del Edificio Pocuro. \nEn esta sesión contaremos con la participación de la Dra. María Salomé Mariotti Celis\, académica de la Escuela de Nutrición y Dietética y directora del Centro de Investigación Avanzada en Nutrición y Salud (CIANS) de la U. Finis Terrae\, quien presentará la charla: “¿Qué comemos? El camino del saber y los sabores en la salud”. \nA partir de su experiencia en la investigación de compuestos bioactivos y sostenibilidad alimentaria\, la Dra. Mariotti abordará cómo la ciencia puede transformar desafíos ambientales y sociales en soluciones concretas para mejorar la salud pública y la calidad de vida de las personas\, especialmente de las poblaciones más vulnerables. \nLes invitamos a compartir esta actividad con estudiantes y colegas que puedan beneficiarse de este espacio de diálogo académico y reflexión interdisciplinaria.
URL:https://finis.cl/agenda/segunda-conferencia-del-ciclo-ahacs-2025-expediciones-academicas/
CATEGORIES:Ciclos,Creación artística
END:VEVENT
END:VCALENDAR