BEGIN:VCALENDAR
VERSION:2.0
PRODID:-//Universidad Finis Terrae - ECPv6.15.17.1//NONSGML v1.0//EN
CALSCALE:GREGORIAN
METHOD:PUBLISH
X-ORIGINAL-URL:https://finis.cl
X-WR-CALDESC:Eventos para Universidad Finis Terrae
REFRESH-INTERVAL;VALUE=DURATION:PT1H
X-Robots-Tag:noindex
X-PUBLISHED-TTL:PT1H
BEGIN:VTIMEZONE
TZID:America/Santiago
BEGIN:STANDARD
TZOFFSETFROM:-0300
TZOFFSETTO:-0400
TZNAME:-04
DTSTART:20250406T030000
END:STANDARD
BEGIN:DAYLIGHT
TZOFFSETFROM:-0400
TZOFFSETTO:-0300
TZNAME:-03
DTSTART:20250907T040000
END:DAYLIGHT
BEGIN:STANDARD
TZOFFSETFROM:-0300
TZOFFSETTO:-0400
TZNAME:-04
DTSTART:20260405T030000
END:STANDARD
BEGIN:DAYLIGHT
TZOFFSETFROM:-0400
TZOFFSETTO:-0300
TZNAME:-03
DTSTART:20260906T040000
END:DAYLIGHT
BEGIN:STANDARD
TZOFFSETFROM:-0300
TZOFFSETTO:-0400
TZNAME:-04
DTSTART:20270404T030000
END:STANDARD
BEGIN:DAYLIGHT
TZOFFSETFROM:-0400
TZOFFSETTO:-0300
TZNAME:-03
DTSTART:20270905T040000
END:DAYLIGHT
END:VTIMEZONE
BEGIN:VEVENT
DTSTART;TZID=America/Santiago:20260415T110000
DTEND;TZID=America/Santiago:20260416T130000
DTSTAMP:20260424T034644
CREATED:20260302T163420Z
LAST-MODIFIED:20260413T134944Z
UID:49823-1776250800-1776344400@finis.cl
SUMMARY:Finis Language Fair 2026
DESCRIPTION:Esta actividad\, organizada por la Dirección de Relaciones Internacionales\, busca incentivar y promover el aprendizaje de un segundo idioma. \nPrograma Feria de Idiomas 2026 \nLunes 13 \n9:00 hrs: Charla Licenciatura en Historia\nProfesor Paweł Jaworski (University of Wroclaw)\nSala A710 \n9:50 hrs: Charla Ingeniería Civil en Telecomunicaciones\nPhilippe Bolon (Université Savoie Montblanc)\nSala C404 \n11:10 hrs: Charla Ingeniería Civil en Biomedicina\nPhilippe Bolon (Université Savoie Montblanc)\nSala B204 \nMiércoles 15 \n8:30 hrs: Charla Ingeniería Civil en Realidad Virtual y Videojuegos\nKonrad Radomiński (Cardinal Stefan Wyszyński University in Warsaw)\nSala C-1 \n11:30 a 15:00 hrs: Stands Internacionales\nRepresentantes de embajadas\, centros culturales o escuelas de idiomas.\n(Alemania\, Italia\, Francia\, Polonia\, China\, Corea\, Japón\, Australia\, Estados Unidos)\nPatio Central \n13:40 hrs: Show\nDanza del león y el dragón\nPatio Central \nJueves 16 \n9:30 hrs: Charla Ingeniería Civil en Realidad Virtual y Videojuegos\nKonrad Radomiński (Cardinal Stefan Wyszyński University in Warsaw)\nSala por confirmar \nConferencia internacional en inglés\n“Europe in the spotlight”\nOrganizada en conjunto con el Observatorio de Asuntos Internacionales\n(Asisten embajadores de Grecia\, Alemania\, Ucrania e Irlanda)\nSala C101 \n13:00 hrs: Taller: Intercomprensión lenguas romance\nDictado por especialistas de la Université Savoie Montblanc\nSala Cowork \n14:00 hrs: Cursos Express de idiomas / Language Crash Courses\nSala Cowork \nAlemán: 14:00 a 14:30 hrs.\nItaliano: 14:40 a 15:10 hrs.\nJaponés: 15:20 a 15:50 hrs.\nChino mandarín: 16:00 a 16:30 hrs.\nInglés: 16:40 a 17:10 hrs.\nCoreano: 17:20 a 18:30 hrs.
URL:https://finis.cl/agenda/feria-de-idiomas-language-fair-2026/
LOCATION:Universidad Finis Terrae
CATEGORIES:Asuntos Estudiantiles,Comunidad Finis Terrae,Estudiantes,Internacional
ATTACH;FMTTYPE=image/webp:https://finis.cl/wp-content/uploads/2026/03/Agenda-web-_9_.webp
END:VEVENT
END:VCALENDAR