BEGIN:VCALENDAR
VERSION:2.0
PRODID:-//Universidad Finis Terrae - ECPv6.15.17.1//NONSGML v1.0//EN
CALSCALE:GREGORIAN
METHOD:PUBLISH
X-ORIGINAL-URL:https://finis.cl
X-WR-CALDESC:Eventos para Universidad Finis Terrae
REFRESH-INTERVAL;VALUE=DURATION:PT1H
X-Robots-Tag:noindex
X-PUBLISHED-TTL:PT1H
BEGIN:VTIMEZONE
TZID:America/Santiago
BEGIN:STANDARD
TZOFFSETFROM:-0300
TZOFFSETTO:-0400
TZNAME:-04
DTSTART:20240407T030000
END:STANDARD
BEGIN:DAYLIGHT
TZOFFSETFROM:-0400
TZOFFSETTO:-0300
TZNAME:-03
DTSTART:20240908T040000
END:DAYLIGHT
BEGIN:STANDARD
TZOFFSETFROM:-0300
TZOFFSETTO:-0400
TZNAME:-04
DTSTART:20250406T030000
END:STANDARD
BEGIN:DAYLIGHT
TZOFFSETFROM:-0400
TZOFFSETTO:-0300
TZNAME:-03
DTSTART:20250907T040000
END:DAYLIGHT
BEGIN:STANDARD
TZOFFSETFROM:-0300
TZOFFSETTO:-0400
TZNAME:-04
DTSTART:20260405T030000
END:STANDARD
BEGIN:DAYLIGHT
TZOFFSETFROM:-0400
TZOFFSETTO:-0300
TZNAME:-03
DTSTART:20260906T040000
END:DAYLIGHT
BEGIN:STANDARD
TZOFFSETFROM:-0300
TZOFFSETTO:-0400
TZNAME:-04
DTSTART:20270404T030000
END:STANDARD
BEGIN:DAYLIGHT
TZOFFSETFROM:-0400
TZOFFSETTO:-0300
TZNAME:-03
DTSTART:20270905T040000
END:DAYLIGHT
END:VTIMEZONE
BEGIN:VEVENT
DTSTART;TZID=America/Santiago:20251213T080000
DTEND;TZID=America/Santiago:20260122T170000
DTSTAMP:20260424T062909
CREATED:20251222T183149Z
LAST-MODIFIED:20251223T183030Z
UID:48386-1765612800-1769101200@finis.cl
SUMMARY:MATERIA VIVA: Exploraciones en la escultura y el arte experimental
DESCRIPTION:Materia Viva es una exposición colectiva que reúne las exploraciones de seis mujeres estudiantes\, quienes durante meses investigaron las posibilidades expresivas de la arcilla en diálogo con otros materiales. Esta muestra es el resultado de un proceso compartido donde la escultura se piensa desde la experimentación\, la fragilidad y la potencia simbólica de la materia. Invitamos al público a adentrarse en obras que nacen del hacer\, del diálogo y de una búsqueda crítica y sensible en torno a lo vivo\, lo orgánico y lo transformable. \nParticipan en esta exposición las artistas Alexandra Díaz\, Catalina Fuenzalida\, Fernanda Fuenzalida\, Inés Moreno\, Kate Peralta y Fiorella Secchi\, cuyas prácticas dan forma a esta investigación colectiva sobre la materialidad y sus posibilidades expresivas. Estudiantes de Artes Visuales\, Universidad Finis Terrae. \nEl proyecto fue desarrollado bajo la tutoría de las artistas Innä Morales y Catalina Durán\, contó con el apoyo de Catalina Zarzar y fue auspiciado por Cerámicas Grof. \n\nDisponible hasta finales de enero 2026. Galería del Parque Mahuida. Av. Alcalde Fernando Castillo Velasco 11095.\n\nORGANIZACIÓN: \nAgrupación Escultores Mahuida (AEM) y Parque Mahuida. Auspiciado por Cerámicas Grof.
URL:https://finis.cl/agenda/materia-viva-exploraciones-en-la-escultura-y-el-arte-experimental/
LOCATION:Galería del Parque Mahuida\, Av. Alcalde Fernando Castillo Velasco 11095\, Santiago\, Chile
CATEGORIES:Artes visuales,Comunidad Finis Terrae,U. Finis Terrae,Vicerrectoría Vinculación con el Medio,Vinculación con el Medio
ATTACH;FMTTYPE=image/jpeg:https://finis.cl/wp-content/uploads/2025/12/Agenda-web-2025-12-23T131446.325.jpg
END:VEVENT
BEGIN:VEVENT
DTSTART;TZID=America/Santiago:20260105T080000
DTEND;TZID=America/Santiago:20260111T170000
DTSTAMP:20260424T062909
CREATED:20251007T191705Z
LAST-MODIFIED:20251223T234852Z
UID:44470-1767600000-1768150800@finis.cl
SUMMARY:Trabajos de Verano 2026
DESCRIPTION:Los Trabajos de Verano son una experiencia de servicio y aprendizaje en terreno\, donde estudiantes de distintas carreras se reúnen para aportar en labores de reconstrucción\, talleres y trabajo comunitario\, fortaleciendo su formación integral y compromiso social. \nOrganizados por la Dirección de Compromiso Social y la Acción Social Finis Terrae ASUFINIS\, este año los Trabajos de Verano 2026 consideran diversos trabajos\, operativos de salud\, talleres\, actividades lúdicas y mucho más desde el 05 al 11 de enero\, en Curacaví. \nEsperamos puedas ser parte de esta iniciativa que busca poner nuestros talentos al servicio de distintas comunidades de nuestro país.
URL:https://finis.cl/agenda/trabajos-de-verano-2026/
CATEGORIES:Compromiso Social,Compromiso Social,Comunidad Finis Terrae,Estudiantes,Vicerrectoría Formación Integral
ATTACH;FMTTYPE=image/jpeg:https://finis.cl/wp-content/uploads/2025/10/Agenda-web-100.jpg
END:VEVENT
BEGIN:VEVENT
DTSTART;TZID=America/Santiago:20260106T180000
DTEND;TZID=America/Santiago:20260127T190000
DTSTAMP:20260424T062909
CREATED:20251223T142447Z
LAST-MODIFIED:20260126T132958Z
UID:48422-1767722400-1769540400@finis.cl
SUMMARY:Clubes de lectura en Biblioteca Nacional
DESCRIPTION:La Biblioteca Nacional\, en colaboración con la Escuela de Literatura de la Universidad Finis Terrae\, invita a participar en sus Clubes de Lectura de enero 2026\, espacios de encuentro y reflexión en torno a obras fundamentales de la literatura. \nEl primer club\, “Mujeres en los clásicos”\, propone una relectura contemporánea de Mujercitas\, de Louisa May Alcott\, y Orgullo y prejuicio\, de Jane Austen. Será impartido por Marcela Escobar\, editora con doce años de trayectoria en la industria editorial chilena\, guía de clubes de lectura y clínicas literarias\, periodista con experiencia en prensa escrita y académica en distintas escuelas de periodismo y literatura. \n\nTodos los martes de enero\, a las 18:00 horas.\n\nEl segundo club\, “Casas siniestras en la literatura contemporánea latinoamericana”\, estará a cargo de Patricia Poblete\, doctora en Literatura Hispanoamericana y profesora titular de la Universidad Finis Terrae. \n\nTodos los jueves de enero\, a las 18:00 horas.\nLugar: Sala Ercilla de la Biblioteca Nacional.\n\nPara inscribirse\, se debe seleccionar uno de los clubes y enviar un correo a flange@uft.cl con la siguiente información:Asunto: Club de Lectura Biblioteca Nacional_ Escuela de Literatura UFTCuerpo del correo: nombre completo\, correo electrónico\, teléfono\, club al que desea asistir y un párrafo explicando el interés en participar (máximo 500 caracteres). \nLos clubes son gratuitos y cuentan con cupos limitados.
URL:https://finis.cl/agenda/clubes-de-lectura-en-biblioteca-nacional/
LOCATION:Sala Ercilla\, Biblioteca Nacional
CATEGORIES:Comunidad Finis Terrae,Historia,U. Finis Terrae,Vicerrectoría Vinculación con el Medio
ATTACH;FMTTYPE=image/jpeg:https://finis.cl/wp-content/uploads/2025/12/Agenda-web-2025-12-23T112341.679.jpg
END:VEVENT
BEGIN:VEVENT
DTSTART;TZID=America/Santiago:20260109T083000
DTEND;TZID=America/Santiago:20260109T140000
DTSTAMP:20260424T062909
CREATED:20251210T155404Z
LAST-MODIFIED:20251230T210646Z
UID:47887-1767947400-1767967200@finis.cl
SUMMARY:Seminario internacional: Bioética y Pueblos Originarios: Medicina Mapuche
DESCRIPTION:Reflexionar sobre los aportes de los pueblos originarios\, en particular del pueblo mapuche\, a la bioética contemporánea\, destacando los principios\, valores y prácticas de su medicina ancestral en el contexto de la salud intercultural. Seminario generado en el marco de los resultados preliminares del proyecto FONIS SA24I0135 “Valores y Principios de la Medicina Ancestral Mapuche y su concepción de la salud\, enfermedad y muerte\, aportando a una visión amplia e integral para alcanzar los objetivos sanitarios 2030 en relación a la construcción de comunidades y entornos saludables.\nEXPONEN: \n\nOlga Angélica Vásquez\, PhD\, Universidad Católica de Temuco.\nMachi Aniceto Rodrigo Lleuful Pichiñan\, Comunidad Francisco Ancapi\, Füskeñ mapu\, comuna de Padre Las Casas\, Temuco\nLahuentuchefe María Quiñelen\, Asociación Dhegñ Winkul. Sabedora ancestral Mapuche\, Santiago\nValentina Fajreldin\, Valentina Fajreldin\, PhD\, Antropóloga\, Universidad de Chile\nPaulo López\, PhD\, Universidad Finis Terrae\, Instituto de Bioética Facultad de Medicina.\nSinthia Poblete\, Mag.\, Departamento de Salud Pública\, Universidad de la Frontera.\nNorma Beatriz Pichimalen\, Especialista en sanación por el canto. Buenos Aires\, Argentina\nDr. Carlos Viesca\, Universidad Nacional Autónoma de México\, México.\n\n\nPROGRAMA:\n\n8:30 – 8:45  hrs. Inscripciones\n8:45 – 9:00 hrs. Bienvenida: Juan Eduardo Vargas\, Rector Universidad Finis Terrae \n9:00– 9:10 hrs. Introducción: Manuel J. Santos\, MD\, PhD\, Director Instituto de Bioética\, Universidad Finis Terrae \n9:10-9:40 hrs. Conferencia inaugural: “Ética de la investigación y reconocimiento de saberes: La medicina ancestral mapuche como fundamento para una bioética global e intercultural” \n\nOlga Angélica Vásquez\, PhD\, Universidad Católica de Temuco.\n\n9:40 – 10: 30 hrs. Mesa redonda: “Bioética y salud en pueblos originarios” \n\nMachi Aniceto Rodrigo Lleuful Pichiñan\, Comunidad Francisco Ancapi\, Füskeñ mapu\, comuna de Padre Las Casas\, Temuco.\nLahuentuchefe María Quiñelen. Asociación Dhegñ Winkul. Sabedora ancestral Mapuche\, Santiago.\nValentina Fajreldin\, Valentina Fajreldin\, PhD\, Antropóloga\, Universidad de Chile\nModeradora: Carolina Muñoz\, Mag.\, Universidad Central.\n\n10:30-10:50 hrs.: Preguntas\n10:50 – 11:20 hrs. Café \n11:30 – 12:15 hrs. Mesa redonda: “Bioética y salud en pueblos mapuches: estudios de caso” \n\nPaulo López\, PhD\, Instituto de Bioética\, Universidad Finis Terrae.\nSinthia Poblete \, Mag.\, Departamento de Salud Pública\, Universidad de la Frontera.\nModeradora: Carolina Valdebenito\, PhD\, Universidad Central\n\n12:15:12:30 hrs. Preguntas \n12:30 -12:50 hrs. Conferencia “La guía del canto en la ética de la sanación” \n\nNorma Beatriz Pichimalen\, Especialista en sanación por el canto. Buenos Aires\, Argentina\, (online).\n\n12:50-13:20 hrs. Conferencia de clausura “Bioética y justicia epistémica ante la atención de problemas de salud en pueblos originarios” \n\nDr. Carlos Viesca\, Universidad Nacional Autónoma de México\, México. (online).\n\n13:20 -13: 35 hrs. Cierre: Víctor Polanco\, PhD\, Vicerrector de Investigación\, Creación Artística y Doctorado Universidad Finis Terrae \nINSCRIPCIONES ACÁ \nConsultas: plopez@uft.cl
URL:https://finis.cl/agenda/seminario-internacional-bioetica-y-pueblos-originarios-medicina-mapuche/
LOCATION:Sala de Exposiciones
CATEGORIES:Comunidad Finis Terrae,Estudiantes,Instituto de Bioética,U. Finis Terrae,Vinculación con el Medio
ATTACH;FMTTYPE=image/jpeg:https://finis.cl/wp-content/uploads/2025/12/Agenda-web-2025-12-10T125115.939.jpg
END:VEVENT
BEGIN:VEVENT
DTSTART;TZID=America/Santiago:20260115T120000
DTEND;TZID=America/Santiago:20260115T130000
DTSTAMP:20260424T062909
CREATED:20251217T183615Z
LAST-MODIFIED:20260106T133353Z
UID:48290-1768478400-1768482000@finis.cl
SUMMARY:Charla Magistral “Dilemas y desafíos éticos en la salud mental en las personas mayores en el ecosistema de la IA”
DESCRIPTION:Esta conferencia busca analizar los dilemas y desafíos éticos que emergen en la atención de la salud mental de las personas mayores dentro de un ecosistema creciente de tecnologías de inteligencia artificial\, con el fin de reflexionar críticamente sobre sus riesgos y oportunidades\, y contribuir a la formulación de principios y recomendaciones bioéticas que resguarden la dignidad\, autonomía y derechos de esta población. \n\nEXPONE:\n\nDra. Carolina Valdebenito\, Directora CISCE\, Centro Investigación Socio Jurídica y Ética\, VRIIP-UCEN- Profesor Asociado Regular Instituto Investigación y Doctorados Vicerrectoría Investigación y Postgrado\, Universidad Central de Chile\, Coordinadora Investigación Facultad Ciencias de la Salud Universidad de Aconcagua\, de Chile. Doctora en Antropología Médica Universidad Católica de Lovaina (KULeuven\, 2016) Magíster en Salud Pública Universidad de Chile Escuela de Salud Pública (Santiago de Chile\, 2006) Antropóloga Sociocultural Universidad de Chile (Santiago de Chile\, 2003). Post Fellow Bioethics and Priority setting Universidad de Toronto\, 2006-2007. \n\nINSCRIPCIONES ACÁ\n\nConsultas: plopez@uft.cl
URL:https://finis.cl/agenda/charla-magistral-dilemas-y-desafios-eticos-en-la-salud-mental-en-las-personas-mayores-en-el-ecosistema-de-la-ia/
LOCATION:Sala Pablo Baraona
CATEGORIES:Comunidad Finis Terrae,Facultad de Medicina,Instituto de Bioética
ATTACH;FMTTYPE=image/jpeg:https://finis.cl/wp-content/uploads/2025/12/Agenda-web-2025-12-17T153427.872.jpg
END:VEVENT
BEGIN:VEVENT
DTSTART;VALUE=DATE:20260120
DTEND;VALUE=DATE:20260122
DTSTAMP:20260424T062909
CREATED:20260115T160541Z
LAST-MODIFIED:20260116T194056Z
UID:49117-1768867200-1769039999@finis.cl
SUMMARY:Matrículas 2026
DESCRIPTION:¡Todo listo para recibir a nuestros nuevos estudiantes! \nEste martes 20 de enero viviremos un momento clave: el inicio de las Matrículas 2026 para los estudiantes convocados a nuestra Universidad. \n\nEl proceso se realizará bajo las siguientes modalidades:\n\nOnline: En matriculaonline.uft.cl desde el martes 20 a las 00:00 h hasta el jueves 22 de enero a las 17:00 h. \nPresencial: En Casa Central los días 20 y 21 (hasta las 19:00 h) y el jueves 22 (hasta las 17:00 h).
URL:https://finis.cl/agenda/matriculas-2026/
LOCATION:Universidad Finis Terrae
CATEGORIES:Admisión,Comunidad Finis Terrae,Universidad
ATTACH;FMTTYPE=image/webp:https://finis.cl/wp-content/uploads/2026/01/BANNER-AGENDA-SITIO.webp
END:VEVENT
BEGIN:VEVENT
DTSTART;TZID=America/Santiago:20260120T180000
DTEND;TZID=America/Santiago:20260120T190000
DTSTAMP:20260424T062909
CREATED:20260107T154508Z
LAST-MODIFIED:20260107T183538Z
UID:48864-1768932000-1768935600@finis.cl
SUMMARY:Charla: “Competencias socioemocionales para el bienestar y la inclusión en la práctica docente”
DESCRIPTION:La Unidad de Postgrado y Educación Continua de la Facultad de Educación y Ciencias Sociales invita a profesionales interesados en fortalecer sus competencias para comprender y transformar contextos educativos diversos a participar en la charla informativa “Competencias socioemocionales para el bienestar y la inclusión en la práctica docente”. \nLa actividad propone una reflexión sobre los desafíos actuales de la educación en Chile\, poniendo énfasis en la convivencia escolar\, la diversidad en el aula y el bienestar socioemocional\, así como en el rol de las competencias socioemocionales para el desarrollo de prácticas pedagógicas inclusivas y contextualizadas. \nLa charla se enmarca en el Magíster en Educación con menciones de la Facultad de Educación y Ciencias Sociales de la Universidad Finis Terrae\, integrando perspectivas formativas orientadas al fortalecimiento profesional y a la mejora de las prácticas educativas en contextos diversos. \n\nEXPONEN:\n\nDra. Carola Zañartu: Coordinadora de la mención en Educación Inclusiva del Magíster en Educación con menciones\, U. Finis Terrae. Doctora en Ciencias Sociales por la Universidad Católica San Antonio de Murcia (España); Magíster en Desarrollo Humano de la Universidad Austral de Chile; Educadora de Párvulos y licenciada en Educación de la Universidad Católica de Temuco. \nSergio Monsálvez: Profesor de Educación Básica; Magíster en Educación con mención en Evaluación Psicopedagógica por la Universidad Central de Chile; director de carrera en la Universidad Finis Terrae\, con especialidad en aprendizaje socioemocional. \nINSCRIPCIONES ACÁ
URL:https://finis.cl/agenda/charla-competencias-socioemocionales-para-el-bienestar-y-la-inclusion-en-la-practica-docente/
LOCATION:Online
CATEGORIES:Comunidad Finis Terrae,Educación Básica,Educación continua,Educación Parvularia,Estudiantes,Facultad de Educación y Ciencias Sociales,Institucional,Investigación,Postgrado y Educación Continua,U. Finis Terrae
ATTACH;FMTTYPE=image/jpeg:https://finis.cl/wp-content/uploads/2026/01/Agenda-web-2026-01-07T124427.997.jpg
END:VEVENT
END:VCALENDAR