BEGIN:VCALENDAR
VERSION:2.0
PRODID:-//Universidad Finis Terrae - ECPv6.15.17.1//NONSGML v1.0//EN
CALSCALE:GREGORIAN
METHOD:PUBLISH
X-WR-CALNAME:Universidad Finis Terrae
X-ORIGINAL-URL:https://finis.cl
X-WR-CALDESC:Eventos para Universidad Finis Terrae
REFRESH-INTERVAL;VALUE=DURATION:PT1H
X-Robots-Tag:noindex
X-PUBLISHED-TTL:PT1H
BEGIN:VTIMEZONE
TZID:America/Santiago
BEGIN:STANDARD
TZOFFSETFROM:-0300
TZOFFSETTO:-0400
TZNAME:-04
DTSTART:20240407T030000
END:STANDARD
BEGIN:DAYLIGHT
TZOFFSETFROM:-0400
TZOFFSETTO:-0300
TZNAME:-03
DTSTART:20240908T040000
END:DAYLIGHT
BEGIN:STANDARD
TZOFFSETFROM:-0300
TZOFFSETTO:-0400
TZNAME:-04
DTSTART:20250406T030000
END:STANDARD
BEGIN:DAYLIGHT
TZOFFSETFROM:-0400
TZOFFSETTO:-0300
TZNAME:-03
DTSTART:20250907T040000
END:DAYLIGHT
BEGIN:STANDARD
TZOFFSETFROM:-0300
TZOFFSETTO:-0400
TZNAME:-04
DTSTART:20260405T030000
END:STANDARD
BEGIN:DAYLIGHT
TZOFFSETFROM:-0400
TZOFFSETTO:-0300
TZNAME:-03
DTSTART:20260906T040000
END:DAYLIGHT
END:VTIMEZONE
BEGIN:VEVENT
DTSTART;TZID=America/Santiago:20251124T151000
DTEND;TZID=America/Santiago:20251124T163000
DTSTAMP:20260423T122850
CREATED:20251107T151248Z
LAST-MODIFIED:20251107T151948Z
UID:45764-1763997000-1764001800@finis.cl
SUMMARY:Conversatorio: Cultura impresa y política editorial: literatura de masas y libro político en América Latina
DESCRIPTION:En el entramado de la historia latinoamericana\, los libros y las editoriales fueron escenarios de disputa\, de imaginación política y de construcción de redes intelectuales a escala continental. Esta actividad propone adentrarse en ese territorio donde la cultura impresa y la militancia se entrelazan\, revelando cómo los proyectos editoriales del siglo XX moldearon la circulación de ideas y los lenguajes de la transformación social en América Latina. \nA partir de dos estudios de caso —la editorial Ediciones Tercer Mundo\, emblema del compromiso literario de los años sesenta\, y la expansión transnacional de la Empresa Editora Zig-Zag en el mercado andino durante la década de 1930—\, se explorarán los modos en que la edición política\, las ferias del libro y las redes de distribución articularon nuevas formas de intervención cultural. \nEXPONEN: \n\nSantiago Vásquez Zuluaga (Instituto Caro y Cuervo)\nJuan David Murillo (Instituto Caro y Cuervo)\n\nMODERA: \n\nPaula Caffarena\, Directora CIDOC
URL:https://finis.cl/agenda/conversatorio-cultura-impresa-y-politica-editorial-literatura-de-masas-y-libro-politico-en-america-latina/
LOCATION:Sala B203
CATEGORIES:Cidoc,Estudiantes,Facultad de Humanidades y Comunicaciones,Historia,Investigación
ATTACH;FMTTYPE=image/jpeg:https://finis.cl/wp-content/uploads/2025/11/Agenda-web-2025-11-07T121220.122.jpg
END:VEVENT
BEGIN:VEVENT
DTSTART;TZID=America/Santiago:20251126T153000
DTEND;TZID=America/Santiago:20251126T163000
DTSTAMP:20260423T122850
CREATED:20251020T191913Z
LAST-MODIFIED:20251020T191958Z
UID:45042-1764171000-1764174600@finis.cl
SUMMARY:Seminario CIDOC “La oralidad de la cultura escrita: impresos para la alfabetización campesina por Radio Sutatenza\, Colombia\, 1953-1962”
DESCRIPTION:¿Es posible aprender a leer y escribir por radio? La respuesta es afirmativa y es posible agregar que fueron los campesinos colombianos quienes experimentaron la novedad de asistir a clases de lectura y escritura a través de ese aparato en la segunda mitad del siglo XX.  \nEsta conferencia reconstruye el inédito modelo de alfabetización de Radio Sutatenza\, emisora alfabetizadora de la iglesia católica que desarrolló una intensa campaña de alfabetización en el mundo rural colombiano en medio de la violencia política que atravesaban algunas regiones del país y las tensiones propias de la Guerra Fría. \nEXPONE: \nAura Hurtado Arias: Profesora – investigadora de la Maestría en Estudios Editoriales del Instituto Caro y Cuervo. \nORGANIZAN: \n\nCIDOC Centro de Investigación y Documentación\nICC (INSTITUTO CARO Y CUERVO)\nICETEX (Instituto Colombiano de Crédito Educativo y Estudios Técnicos en el Exterior)\n\nINSCRIPCIONES: cidoc@uft.cl
URL:https://finis.cl/agenda/seminario-cidoc-la-oralidad-de-la-cultura-escrita-impresos-para-la-alfabetizacion-campesina-por-radio-sutatenza-colombia-1953-1962/
LOCATION:Sala de reuniones\, CIDOC
CATEGORIES:Cidoc,Facultad de Humanidades y Comunicaciones,Universidad
ATTACH;FMTTYPE=image/jpeg:https://finis.cl/wp-content/uploads/2025/10/Agenda-web-2025-10-20T161851.563.jpg
END:VEVENT
END:VCALENDAR