BEGIN:VCALENDAR
VERSION:2.0
PRODID:-//Universidad Finis Terrae - ECPv6.15.17.1//NONSGML v1.0//EN
CALSCALE:GREGORIAN
METHOD:PUBLISH
X-WR-CALNAME:Universidad Finis Terrae
X-ORIGINAL-URL:https://finis.cl
X-WR-CALDESC:Eventos para Universidad Finis Terrae
REFRESH-INTERVAL;VALUE=DURATION:PT1H
X-Robots-Tag:noindex
X-PUBLISHED-TTL:PT1H
BEGIN:VTIMEZONE
TZID:America/Santiago
BEGIN:STANDARD
TZOFFSETFROM:-0300
TZOFFSETTO:-0400
TZNAME:-04
DTSTART:20240407T030000
END:STANDARD
BEGIN:DAYLIGHT
TZOFFSETFROM:-0400
TZOFFSETTO:-0300
TZNAME:-03
DTSTART:20240908T040000
END:DAYLIGHT
BEGIN:STANDARD
TZOFFSETFROM:-0300
TZOFFSETTO:-0400
TZNAME:-04
DTSTART:20250406T030000
END:STANDARD
BEGIN:DAYLIGHT
TZOFFSETFROM:-0400
TZOFFSETTO:-0300
TZNAME:-03
DTSTART:20250907T040000
END:DAYLIGHT
BEGIN:STANDARD
TZOFFSETFROM:-0300
TZOFFSETTO:-0400
TZNAME:-04
DTSTART:20260405T030000
END:STANDARD
BEGIN:DAYLIGHT
TZOFFSETFROM:-0400
TZOFFSETTO:-0300
TZNAME:-03
DTSTART:20260906T040000
END:DAYLIGHT
END:VTIMEZONE
BEGIN:VEVENT
DTSTART;TZID=America/Santiago:20250902T080000
DTEND;TZID=America/Santiago:20250930T170000
DTSTAMP:20260423T185356
CREATED:20250902T154740Z
LAST-MODIFIED:20250902T165604Z
UID:42527-1756800000-1759251600@finis.cl
SUMMARY:¡Innova\, postula y transforma! Fondos de Innovación Docente 2026
DESCRIPTION:Estimada comunidad académica: \nNos complace informarles que a partir de hoy las bases para la postulación a los Fondos de Innovación Docente están abiertas. La adjudicación tiene como objetivo financiar proyectos innovadores y sostenibles que promuevan mejoras significativas en los procesos de enseñanza aprendizaje\, a través de la incorporación de estrategias de innovación educativa que permitan potenciar el aprendizaje del estudiantado de la universidad. \nDesde este año se integran nuevas líneas de proyecto acorde al nuevo modelo formativo Finis Transforma\, siendo los siguientes los temas prioritarios: \nBienestar e inclusión: Promueve entornos de aprendizaje inclusivos que valoren la diversidad estudiantil\, integrando estrategias pedagógicas que favorezcan la equidad\, la participación activa\, la salud mental y el bienestar. \nCiudadanía y compromiso social: Se enfoca en diseñar e implementar asignaturas y experiencias formativas que fortalezcan la formación ciudadana y el compromiso social del estudiantado. Se privilegian proyectos con metodologías innovadoras como Aprendizaje Servicio\, proyectos de vinculación con el medio\, investigación aplicada\, tesis en temas de ciudadanía\, cursos COIL y colaboraciones académicas internacionales. \nInterdisciplina: Promueve experiencias docentes que integren diversas áreas del conocimiento\, desarrollen competencias transversales\, fomenten el pensamiento crítico y creativo\, y generen innovación pedagógica mediante la colaboración entre distintas facultades o carreras. \nTecnología e Inteligencia Artificial: Impulsa el uso de recursos educativos innovadores basados en tecnología y/o IA\, integrados de manera pertinente en el aula para favorecer aprendizajes personalizados\, activos y significativos. \nRevisa los requisitos y las bases del concurso en el formulario de postulación. \nMÁS INFORMACIÓN \nLos plazos son: \n\nLanzamiento de bases: 2 de septiembre\nCierre postulación: 30 de septiembre\nEvaluación de la postulación: Octubre\nPublicación de resultados: 3 de noviembre\nInicio del proyecto: enero 2026
URL:https://finis.cl/agenda/innova-postula-y-transforma-fondos-de-innovacion-docente-2026/
LOCATION:Online
CATEGORIES:Centro de Innovación Docente
ATTACH;FMTTYPE=image/jpeg:https://finis.cl/wp-content/uploads/2025/09/Plantillas-fotos-agenda-91.jpg
END:VEVENT
BEGIN:VEVENT
DTSTART;TZID=America/Santiago:20250922T150000
DTEND;TZID=America/Santiago:20250922T180000
DTSTAMP:20260423T185356
CREATED:20250903T202217Z
LAST-MODIFIED:20250903T204601Z
UID:42687-1758553200-1758564000@finis.cl
SUMMARY:Semanas de perfeccionamiento docente: Septiembre
DESCRIPTION:El Centro de Innovación Docente de la Dirección de Gestión y Desarrollo Académico. organiza estas actividades de formación para el mes de septiembre. \nSabemos que el segundo semestre se perfila como un nuevo escenario para innovar\, reflexionar y fortalecer nuestras prácticas pedagógicas. Por eso\, queremos invitarles a distintas actividades y espacios diseñados para enriquecer el proceso de enseñanza-aprendizaje\, siempre con foco en mejorar la experiencia educativa de nuestros/as estudiantes. \nLas inscripciones están disponibles a través del enlace correspondiente en la descripción de cada actividad. \n¡Te esperamos para seguir transformando juntos la docencia universitaria! \nPROGRAMA: \n22 de septiembre 15:00 a 18:00 hrs. Sala B604\nTaller Más allá del PDF: Recursos multimedia para enriquecer tus clases\nINSCRIPCIONES ACÁ \n25 de septiembre 15:00 a 18:00 hrs. Sala B408\nTaller Cuando un problema une al aula: estrategias de aprendizaje activo\nINSCRIPCIONES ACÁ \n30 de septiembre 10:00 a 13:00 hrs. Sala Cowork\nTaller Aprendizaje Basado en Problemas y Casos: estrategias para pensar\, analizar y resolver\nINSCRIPCIONES ACÁ
URL:https://finis.cl/agenda/semanas-de-perfeccionamiento-docente-septiembre/
LOCATION:Sala B604
CATEGORIES:Centro de Innovación Docente
ATTACH;FMTTYPE=image/jpeg:https://finis.cl/wp-content/uploads/2025/09/Agenda-web-4.jpg
END:VEVENT
END:VCALENDAR