BEGIN:VCALENDAR
VERSION:2.0
PRODID:-//Universidad Finis Terrae - ECPv6.15.17.1//NONSGML v1.0//EN
CALSCALE:GREGORIAN
METHOD:PUBLISH
X-ORIGINAL-URL:https://finis.cl
X-WR-CALDESC:Eventos para Universidad Finis Terrae
REFRESH-INTERVAL;VALUE=DURATION:PT1H
X-Robots-Tag:noindex
X-PUBLISHED-TTL:PT1H
BEGIN:VTIMEZONE
TZID:America/Santiago
BEGIN:STANDARD
TZOFFSETFROM:-0300
TZOFFSETTO:-0400
TZNAME:-04
DTSTART:20230402T030000
END:STANDARD
BEGIN:DAYLIGHT
TZOFFSETFROM:-0400
TZOFFSETTO:-0300
TZNAME:-03
DTSTART:20230903T040000
END:DAYLIGHT
BEGIN:STANDARD
TZOFFSETFROM:-0300
TZOFFSETTO:-0400
TZNAME:-04
DTSTART:20240407T030000
END:STANDARD
BEGIN:DAYLIGHT
TZOFFSETFROM:-0400
TZOFFSETTO:-0300
TZNAME:-03
DTSTART:20240908T040000
END:DAYLIGHT
BEGIN:STANDARD
TZOFFSETFROM:-0300
TZOFFSETTO:-0400
TZNAME:-04
DTSTART:20250406T030000
END:STANDARD
BEGIN:DAYLIGHT
TZOFFSETFROM:-0400
TZOFFSETTO:-0300
TZNAME:-03
DTSTART:20250907T040000
END:DAYLIGHT
BEGIN:STANDARD
TZOFFSETFROM:-0300
TZOFFSETTO:-0400
TZNAME:-04
DTSTART:20260405T030000
END:STANDARD
BEGIN:DAYLIGHT
TZOFFSETFROM:-0400
TZOFFSETTO:-0300
TZNAME:-03
DTSTART:20260906T040000
END:DAYLIGHT
END:VTIMEZONE
BEGIN:VEVENT
DTSTART;TZID=America/Santiago:20240610T140000
DTEND;TZID=America/Santiago:20250116T235900
DTSTAMP:20260424T134525
CREATED:20250715T154541Z
LAST-MODIFIED:20250715T154541Z
UID:39881-1718028000-1737071940@finis.cl
SUMMARY:Postulación Diplomado en Docencia Universitaria U. Finis Terrae primer semestre 2024
DESCRIPTION:Estimada comunidad académica \nDesde el Centro de Innovación Docente (CID) de la Universidad Finis Terrae extendemos la invitación a postular al Diplomado de Docencia Universitaria. \nEl Diplomado tiene como objetivo fortalecer competencias y habilidades para una docencia de calidad coherente con el proyecto educativo\, plan estratégico y la identidad de la universidad; y está dirigido a todos/as los/as docentes de nuestra casa de estudios. \nEl programa tiene cupos limitados y es gratuito para todos/as los académicos U. Finis Terrae. Las clases se realizan de manera presencial los jueves de 14:00 a 18:00 hrs. \nInicio de clases: 22 de agosto de 2024.\nPara consultas o dudas contactarse al correo innovaciondocente@uft.cl \nINSCRIPCIONES ACÁ.
URL:https://finis.cl/agenda/postulacion-diplomado-en-docencia-universitaria-u-finis-terrae-primer-semestre-2024-2/
CATEGORIES:Centro de Innovación Docente
END:VEVENT
BEGIN:VEVENT
DTSTART;TZID=America/Santiago:20240708T000100
DTEND;TZID=America/Santiago:20240708T235900
DTSTAMP:20260424T134525
CREATED:20250715T154458Z
LAST-MODIFIED:20250715T154458Z
UID:39828-1720396860-1720483140@finis.cl
SUMMARY:Semana de la innovación en docencia 2024
DESCRIPTION:El Centro de Innovación Docente tiene el agrado de invitar a participar en la Semana de la Innovación en docencia 2024 a realizarse entre el 8 al 19 de julio. \nInvitamos a inscribirse en las distintas actividades: \nTalleres \nLunes 8 de julio 10:00 a 13:00 hrs.\nMás allá de la respuesta correcta: ¿cómo evaluar pensamiento crítico? INSCRIPCIONES ACÁ \nMartes 9 de julio 10:00 a 13:00 hrs\nInvierte tu clase de pies a cabeza con Flipped Classroom INSCRIPCIONES ACÁ \nMiércoles 10 de julio 11:00 a 14:00 hrs.\nMentes Brillantes: Cómo Funciona y se Potencia el Aprendizaje Universitario INSCRIPCIONES ACÁ \nViernes 12 de julio 10:00 a 13:00 hrs.\nInternacionalizar sin salir de la universidad  ¿Qué es Coil? INSCRIPCIONES ACÁ \nViernes 19 de julio 10:00 a 13:00 hrs.\nDinamizar la clase magistral a través de quiebres activos INSCRIPCIONES ACÁ  \nLunes 22 de julio 10:00 a 13:00 hrs. y 14:00 a 17:00 hrs.\nPrimeros pasos para implementar Aprendizaje + Servicio en tu asignatura INSCRIPCIONES ACÁ \nDesayunos de innovación \nMiércoles 10 de julio 10:00 a 11:00 hrs.\nDesayuno ¡Actualízate con un café! No te quedes obsoleto\, usa Chat GPT para tu docencia. INSCRIPCIONES ACÁ 
URL:https://finis.cl/agenda/semana-de-la-innovacion-en-docencia-2024/
CATEGORIES:Centro de Innovación Docente
END:VEVENT
END:VCALENDAR