BEGIN:VCALENDAR
VERSION:2.0
PRODID:-//Universidad Finis Terrae - ECPv6.15.17.1//NONSGML v1.0//EN
CALSCALE:GREGORIAN
METHOD:PUBLISH
X-WR-CALNAME:Universidad Finis Terrae
X-ORIGINAL-URL:https://finis.cl
X-WR-CALDESC:Eventos para Universidad Finis Terrae
REFRESH-INTERVAL;VALUE=DURATION:PT1H
X-Robots-Tag:noindex
X-PUBLISHED-TTL:PT1H
BEGIN:VTIMEZONE
TZID:America/Santiago
BEGIN:STANDARD
TZOFFSETFROM:-0300
TZOFFSETTO:-0400
TZNAME:-04
DTSTART:20230402T030000
END:STANDARD
BEGIN:DAYLIGHT
TZOFFSETFROM:-0400
TZOFFSETTO:-0300
TZNAME:-03
DTSTART:20230903T040000
END:DAYLIGHT
BEGIN:STANDARD
TZOFFSETFROM:-0300
TZOFFSETTO:-0400
TZNAME:-04
DTSTART:20240407T030000
END:STANDARD
BEGIN:DAYLIGHT
TZOFFSETFROM:-0400
TZOFFSETTO:-0300
TZNAME:-03
DTSTART:20240908T040000
END:DAYLIGHT
BEGIN:STANDARD
TZOFFSETFROM:-0300
TZOFFSETTO:-0400
TZNAME:-04
DTSTART:20250406T030000
END:STANDARD
BEGIN:DAYLIGHT
TZOFFSETFROM:-0400
TZOFFSETTO:-0300
TZNAME:-03
DTSTART:20250907T040000
END:DAYLIGHT
END:VTIMEZONE
BEGIN:VEVENT
DTSTART;TZID=America/Santiago:20240515T140000
DTEND;TZID=America/Santiago:20240612T170000
DTSTAMP:20260424T162447
CREATED:20250715T154550Z
LAST-MODIFIED:20250715T154550Z
UID:39896-1715781600-1718211600@finis.cl
SUMMARY:Calendario de talleres para docentes: Mayo y Junio
DESCRIPTION:Les enviamos a continuación la oferta de actividades abiertas de los meses de mayo y junio del Centro de Innovación Docente de la Dirección de Gestión y Desarrollo Académico. \nEl Centro de Innovación Docente tiene como objetivo ofrecer de manera permanente diversos espacios de apoyo y formación en habilidades pedagógicas centradas en mejorar la calidad de los aprendizajes de nuestros estudiantes. \nDesayuno\n● ¡Actualízate con un café! Crea tu escape room digital: herramientas para implementarlo en tu sala de clases.\nMartes 28 de mayo – 10:00 a 11:00 hrs. Sala C102. INSCRIPCIONES ACÁ. \nTalleres\n● Introducción al mundo de las rúbricas: ¡Diseña\, evalúa y comparte!\nMiércoles 15 de mayo de 14:00 a 17:00 hrs. Sala P403. INSCRIPCIONES ACÁ. \n● Clima de aula: Construyendo ambientes para aprendizajes significativos.\nMiércoles 29 de mayo de 14:00 a 17:00 hrs. Sala P403. INSCRIPCIONES ACÁ. \n● Partiendo con todo: prepárate para tu primera clase.\nMiércoles 12 de junio de 14:00 a 17:00 hrs. Sala P403. INSCRIPCIONES ACÁ
URL:https://finis.cl/agenda/calendario-de-talleres-para-docentes-mayo-y-junio/
CATEGORIES:Centro de Innovación Docente
END:VEVENT
END:VCALENDAR