BEGIN:VCALENDAR
VERSION:2.0
PRODID:-//Universidad Finis Terrae - ECPv6.15.17.1//NONSGML v1.0//EN
CALSCALE:GREGORIAN
METHOD:PUBLISH
X-WR-CALNAME:Universidad Finis Terrae
X-ORIGINAL-URL:https://finis.cl
X-WR-CALDESC:Eventos para Universidad Finis Terrae
REFRESH-INTERVAL;VALUE=DURATION:PT1H
X-Robots-Tag:noindex
X-PUBLISHED-TTL:PT1H
BEGIN:VTIMEZONE
TZID:America/Santiago
BEGIN:STANDARD
TZOFFSETFROM:-0300
TZOFFSETTO:-0400
TZNAME:-04
DTSTART:20240407T030000
END:STANDARD
BEGIN:DAYLIGHT
TZOFFSETFROM:-0400
TZOFFSETTO:-0300
TZNAME:-03
DTSTART:20240908T040000
END:DAYLIGHT
BEGIN:STANDARD
TZOFFSETFROM:-0300
TZOFFSETTO:-0400
TZNAME:-04
DTSTART:20250406T030000
END:STANDARD
BEGIN:DAYLIGHT
TZOFFSETFROM:-0400
TZOFFSETTO:-0300
TZNAME:-03
DTSTART:20250907T040000
END:DAYLIGHT
BEGIN:STANDARD
TZOFFSETFROM:-0300
TZOFFSETTO:-0400
TZNAME:-04
DTSTART:20260405T030000
END:STANDARD
BEGIN:DAYLIGHT
TZOFFSETFROM:-0400
TZOFFSETTO:-0300
TZNAME:-03
DTSTART:20260906T040000
END:DAYLIGHT
END:VTIMEZONE
BEGIN:VEVENT
DTSTART;TZID=America/Santiago:20251007T100000
DTEND;TZID=America/Santiago:20251007T130000
DTSTAMP:20260423T135354
CREATED:20251002T164917Z
LAST-MODIFIED:20251002T182737Z
UID:44125-1759831200-1759842000@finis.cl
SUMMARY:Semanas de perfeccionamiento docente: Octubre
DESCRIPTION:El Centro de Innovación Docente de la Dirección de Gestión y Desarrollo Académico. organiza estas actividades de formación para el mes de octubre. \nSabemos que el segundo semestre se perfila como un nuevo escenario para innovar\, reflexionar y fortalecer nuestras prácticas pedagógicas. Por eso\, queremos invitarles a distintas actividades y espacios diseñados para enriquecer el proceso de enseñanza-aprendizaje\, siempre con foco en mejorar la experiencia educativa de nuestros/as estudiantes. \nLas inscripciones están disponibles a través del enlace correspondiente en la descripción de cada actividad. \n¡Te esperamos para seguir transformando juntos la docencia universitaria! \nPROGRAMA: \n07 de octubre 10:00 a 13:00 hrs. Sala Cowork\nTaller “IA desde cero: Creatividad\, docencia y nuevas posibilidades”\nINSCRIPCIONES ACÁ \n16 de octubre 09:00 a 10:00 hrs. Sala Cowork\n¡Actívate con un café! “Aprender jugando: el poder de Quizizz en la docencia”\nINSCRIPCIONES ACÁ \n23 de octubre 15:00 a 18:00 hrs. Sala B408\nTaller “Acompañar sin sobrecargarse: Estrategias de Primeros Auxilios Psicológicos para docentes”\nINSCRIPCIONES ACÁ
URL:https://finis.cl/agenda/semanas-de-perfeccionamiento-docente-octubre/
LOCATION:Sala Cowork
CATEGORIES:Centro de Innovación Docente,Vicerrectoría Académica
ATTACH;FMTTYPE=image/jpeg:https://finis.cl/wp-content/uploads/2025/10/Agenda-web-61.jpg
END:VEVENT
BEGIN:VEVENT
DTSTART;TZID=America/Santiago:20251007T100000
DTEND;TZID=America/Santiago:20251007T130000
DTSTAMP:20260423T135354
CREATED:20251002T164921Z
LAST-MODIFIED:20251002T164921Z
UID:44131-1759831200-1759842000@finis.cl
SUMMARY:Semanas de perfeccionamiento docente: Octubre
DESCRIPTION:El Centro de Innovación Docente de la Dirección de Gestión y Desarrollo Académico. organiza estas actividades de formación para el mes de octubre. \nSabemos que el segundo semestre se perfila como un nuevo escenario para innovar\, reflexionar y fortalecer nuestras prácticas pedagógicas. Por eso\, queremos invitarles a distintas actividades y espacios diseñados para enriquecer el proceso de enseñanza-aprendizaje\, siempre con foco en mejorar la experiencia educativa de nuestros/as estudiantes. \nLas inscripciones están disponibles a través del enlace correspondiente en la descripción de cada actividad. \n¡Te esperamos para seguir transformando juntos la docencia universitaria! \nPROGRAMA: \n07 de octubre 10:00 a 13:00 hrs. Sala Cowork\nTaller “IA desde cero: Creatividad\, docencia y nuevas posibilidades”\nINSCRIPCIONES ACÁ \n16 de octubre 09:00 a 10:00 hrs. Sala Cowork\n¡Actívate con un café! “Aprender jugando: el poder de Quizizz en la docencia”\nINSCRIPCIONES ACÁ \n23 de octubre 15:00 a 18:00 hrs. Sala B408\nTaller “Acompañar sin sobrecargarse: Estrategias de Primeros Auxilios Psicológicos para Docentes”\nINSCRIPCIONES ACÁ
URL:https://finis.cl/agenda/semanas-de-perfeccionamiento-docente-octubre-4/
CATEGORIES:Centro de Innovación Docente,Vicerrectoría Académica
ATTACH;FMTTYPE=image/jpeg:https://finis.cl/wp-content/uploads/2025/10/Agenda-web-60.jpg
END:VEVENT
BEGIN:VEVENT
DTSTART;TZID=America/Santiago:20251016T090000
DTEND;TZID=America/Santiago:20251016T100000
DTSTAMP:20260423T135354
CREATED:20251002T164919Z
LAST-MODIFIED:20251002T182709Z
UID:44127-1760605200-1760608800@finis.cl
SUMMARY:Semanas de perfeccionamiento docente: Octubre
DESCRIPTION:El Centro de Innovación Docente de la Dirección de Gestión y Desarrollo Académico. organiza estas actividades de formación para el mes de octubre. \nSabemos que el segundo semestre se perfila como un nuevo escenario para innovar\, reflexionar y fortalecer nuestras prácticas pedagógicas. Por eso\, queremos invitarles a distintas actividades y espacios diseñados para enriquecer el proceso de enseñanza-aprendizaje\, siempre con foco en mejorar la experiencia educativa de nuestros/as estudiantes. \nLas inscripciones están disponibles a través del enlace correspondiente en la descripción de cada actividad. \n¡Te esperamos para seguir transformando juntos la docencia universitaria! \nPROGRAMA: \n07 de octubre 10:00 a 13:00 hrs. Sala Cowork\nTaller “IA desde cero: Creatividad\, docencia y nuevas posibilidades”\nINSCRIPCIONES ACÁ \n16 de octubre 09:00 a 10:00 hrs. Sala Cowork\n¡Actívate con un café! “Aprender jugando: el poder de Quizizz en la docencia”\nINSCRIPCIONES ACÁ \n23 de octubre 15:00 a 18:00 hrs. Sala B408\nTaller “Acompañar sin sobrecargarse: Estrategias de Primeros Auxilios Psicológicos para Docentes”\nINSCRIPCIONES ACÁ
URL:https://finis.cl/agenda/semanas-de-perfeccionamiento-docente-octubre-2/
LOCATION:Sala Cowork
CATEGORIES:Centro de Innovación Docente,Vicerrectoría Académica
ATTACH;FMTTYPE=image/jpeg:https://finis.cl/wp-content/uploads/2025/10/Agenda-web-61.jpg
END:VEVENT
BEGIN:VEVENT
DTSTART;TZID=America/Santiago:20251016T090000
DTEND;TZID=America/Santiago:20251016T100000
DTSTAMP:20260423T135354
CREATED:20251002T164923Z
LAST-MODIFIED:20251002T164923Z
UID:44133-1760605200-1760608800@finis.cl
SUMMARY:Semanas de perfeccionamiento docente: Octubre
DESCRIPTION:El Centro de Innovación Docente de la Dirección de Gestión y Desarrollo Académico. organiza estas actividades de formación para el mes de octubre. \nSabemos que el segundo semestre se perfila como un nuevo escenario para innovar\, reflexionar y fortalecer nuestras prácticas pedagógicas. Por eso\, queremos invitarles a distintas actividades y espacios diseñados para enriquecer el proceso de enseñanza-aprendizaje\, siempre con foco en mejorar la experiencia educativa de nuestros/as estudiantes. \nLas inscripciones están disponibles a través del enlace correspondiente en la descripción de cada actividad. \n¡Te esperamos para seguir transformando juntos la docencia universitaria! \nPROGRAMA: \n07 de octubre 10:00 a 13:00 hrs. Sala Cowork\nTaller “IA desde cero: Creatividad\, docencia y nuevas posibilidades”\nINSCRIPCIONES ACÁ \n16 de octubre 09:00 a 10:00 hrs. Sala Cowork\n¡Actívate con un café! “Aprender jugando: el poder de Quizizz en la docencia”\nINSCRIPCIONES ACÁ \n23 de octubre 15:00 a 18:00 hrs. Sala B408\nTaller “Acompañar sin sobrecargarse: Estrategias de Primeros Auxilios Psicológicos para Docentes”\nINSCRIPCIONES ACÁ
URL:https://finis.cl/agenda/semanas-de-perfeccionamiento-docente-octubre-5/
CATEGORIES:Centro de Innovación Docente,Vicerrectoría Académica
ATTACH;FMTTYPE=image/jpeg:https://finis.cl/wp-content/uploads/2025/10/Agenda-web-60.jpg
END:VEVENT
BEGIN:VEVENT
DTSTART;TZID=America/Santiago:20251023T150000
DTEND;TZID=America/Santiago:20251023T180000
DTSTAMP:20260423T135354
CREATED:20251002T164920Z
LAST-MODIFIED:20251002T182959Z
UID:44129-1761231600-1761242400@finis.cl
SUMMARY:Semanas de perfeccionamiento docente: Octubre
DESCRIPTION:El Centro de Innovación Docente de la Dirección de Gestión y Desarrollo Académico. organiza estas actividades de formación para el mes de octubre. \nSabemos que el segundo semestre se perfila como un nuevo escenario para innovar\, reflexionar y fortalecer nuestras prácticas pedagógicas. Por eso\, queremos invitarles a distintas actividades y espacios diseñados para enriquecer el proceso de enseñanza-aprendizaje\, siempre con foco en mejorar la experiencia educativa de nuestros/as estudiantes. \nLas inscripciones están disponibles a través del enlace correspondiente en la descripción de cada actividad. \n¡Te esperamos para seguir transformando juntos la docencia universitaria! \nPROGRAMA: \n07 de octubre 10:00 a 13:00 hrs. Sala Cowork\nTaller “IA desde cero: Creatividad\, docencia y nuevas posibilidades”\nINSCRIPCIONES ACÁ \n16 de octubre 09:00 a 10:00 hrs. Sala Cowork\n¡Actívate con un café! “Aprender jugando: el poder de Quizizz en la docencia”\nINSCRIPCIONES ACÁ \n23 de octubre 15:00 a 18:00 hrs. Sala B408\nTaller “Acompañar sin sobrecargarse: Estrategias de Primeros Auxilios Psicológicos para Docentes”\nINSCRIPCIONES ACÁ
URL:https://finis.cl/agenda/semanas-de-perfeccionamiento-docente-octubre-3/
LOCATION:Sala B408
CATEGORIES:Centro de Innovación Docente,Vicerrectoría Académica
ATTACH;FMTTYPE=image/jpeg:https://finis.cl/wp-content/uploads/2025/10/Agenda-web-61.jpg
END:VEVENT
BEGIN:VEVENT
DTSTART;TZID=America/Santiago:20251023T150000
DTEND;TZID=America/Santiago:20251023T180000
DTSTAMP:20260423T135354
CREATED:20251002T164924Z
LAST-MODIFIED:20251002T164924Z
UID:44135-1761231600-1761242400@finis.cl
SUMMARY:Semanas de perfeccionamiento docente: Octubre
DESCRIPTION:El Centro de Innovación Docente de la Dirección de Gestión y Desarrollo Académico. organiza estas actividades de formación para el mes de octubre. \nSabemos que el segundo semestre se perfila como un nuevo escenario para innovar\, reflexionar y fortalecer nuestras prácticas pedagógicas. Por eso\, queremos invitarles a distintas actividades y espacios diseñados para enriquecer el proceso de enseñanza-aprendizaje\, siempre con foco en mejorar la experiencia educativa de nuestros/as estudiantes. \nLas inscripciones están disponibles a través del enlace correspondiente en la descripción de cada actividad. \n¡Te esperamos para seguir transformando juntos la docencia universitaria! \nPROGRAMA: \n07 de octubre 10:00 a 13:00 hrs. Sala Cowork\nTaller “IA desde cero: Creatividad\, docencia y nuevas posibilidades”\nINSCRIPCIONES ACÁ \n16 de octubre 09:00 a 10:00 hrs. Sala Cowork\n¡Actívate con un café! “Aprender jugando: el poder de Quizizz en la docencia”\nINSCRIPCIONES ACÁ \n23 de octubre 15:00 a 18:00 hrs. Sala B408\nTaller “Acompañar sin sobrecargarse: Estrategias de Primeros Auxilios Psicológicos para Docentes”\nINSCRIPCIONES ACÁ
URL:https://finis.cl/agenda/semanas-de-perfeccionamiento-docente-octubre-6/
CATEGORIES:Centro de Innovación Docente,Vicerrectoría Académica
ATTACH;FMTTYPE=image/jpeg:https://finis.cl/wp-content/uploads/2025/10/Agenda-web-60.jpg
END:VEVENT
BEGIN:VEVENT
DTSTART;TZID=America/Santiago:20251028T180000
DTEND;TZID=America/Santiago:20251028T190000
DTSTAMP:20260423T135354
CREATED:20251023T132441Z
LAST-MODIFIED:20251023T132606Z
UID:45197-1761674400-1761678000@finis.cl
SUMMARY:Titulación Diplomado en Docencia Universitaria
DESCRIPTION:La Ceremonia de Titulación del Diplomado en Docencia Universitaria celebra el compromiso y la dedicación de quienes han fortalecido sus competencias para una docencia de excelencia\, en coherencia con el proyecto educativo y la identidad de la Universidad Finis Terrae. \nEl Diplomado en Docencia Universitaria\, impulsado por el Centro de Innovación y Desarrollo Docente\, busca desarrollar en el cuerpo académico las habilidades necesarias para una enseñanza de calidad y un aprendizaje significativo\, reafirmando el valor de la formación continua en nuestra comunidad. \nTe esperamos para compartir este hito académico y reconocer el esfuerzo de quienes culminan con éxito esta importante etapa.
URL:https://finis.cl/agenda/titulacion-diplomado-en-docencia-universitaria/
LOCATION:Teatro Finis Terrae\, Av. Pedro de Valdivia 1509\, Santiago\, Providencia\, 7500986\, Chile
CATEGORIES:Centro de Innovación Docente,Vicerrectoría Académica
ATTACH;FMTTYPE=image/jpeg:https://finis.cl/wp-content/uploads/2025/10/Agenda-web-2025-10-23T102357.948.jpg
END:VEVENT
END:VCALENDAR