BEGIN:VCALENDAR
VERSION:2.0
PRODID:-//Universidad Finis Terrae - ECPv6.15.17.1//NONSGML v1.0//EN
CALSCALE:GREGORIAN
METHOD:PUBLISH
X-ORIGINAL-URL:https://finis.cl
X-WR-CALDESC:Eventos para Universidad Finis Terrae
REFRESH-INTERVAL;VALUE=DURATION:PT1H
X-Robots-Tag:noindex
X-PUBLISHED-TTL:PT1H
BEGIN:VTIMEZONE
TZID:America/Santiago
BEGIN:STANDARD
TZOFFSETFROM:-0300
TZOFFSETTO:-0400
TZNAME:-04
DTSTART:20240407T030000
END:STANDARD
BEGIN:DAYLIGHT
TZOFFSETFROM:-0400
TZOFFSETTO:-0300
TZNAME:-03
DTSTART:20240908T040000
END:DAYLIGHT
BEGIN:STANDARD
TZOFFSETFROM:-0300
TZOFFSETTO:-0400
TZNAME:-04
DTSTART:20250406T030000
END:STANDARD
BEGIN:DAYLIGHT
TZOFFSETFROM:-0400
TZOFFSETTO:-0300
TZNAME:-03
DTSTART:20250907T040000
END:DAYLIGHT
BEGIN:STANDARD
TZOFFSETFROM:-0300
TZOFFSETTO:-0400
TZNAME:-04
DTSTART:20260405T030000
END:STANDARD
BEGIN:DAYLIGHT
TZOFFSETFROM:-0400
TZOFFSETTO:-0300
TZNAME:-03
DTSTART:20260906T040000
END:DAYLIGHT
END:VTIMEZONE
BEGIN:VEVENT
DTSTART;TZID=America/Santiago:20250807T180000
DTEND;TZID=America/Santiago:20250807T210000
DTSTAMP:20260423T170224
CREATED:20250728T135911Z
LAST-MODIFIED:20250801T185832Z
UID:40551-1754589600-1754600400@finis.cl
SUMMARY:Premio a la Docencia de Excelencia 2024
DESCRIPTION:En la Universidad Finis Terrae creemos firmemente que en el centro de nuestra misión está la formación integral de personas capaces de transformar la sociedad y la cultura\, conforme a los valores cristianos. Esto solo es posible gracias al compromiso y la calidad de nuestro cuerpo académico\, cuya labor inspira y guía a nuestros estudiantes día a día. \nPor ello\, desde 2024 instauramos el Premio a la Docencia de Excelencia\, que reconoce a aquellos docentes que\, en el transcurso del año anterior\, fueron destacados por sus estudiantes y sus Escuelas como referentes de una enseñanza de excelencia. \nEn este contexto\, tenemos el agrado de invitarles a la Ceremonia de Premiación de Profesores de Excelencia 2024\, que se realizará el: \n📅 Jueves 7 de agosto\n🕕 18:00 hrs.\n📍 Sala de Exposiciones (Av. Pedro de Valdivia 1509\, Providencia) \nEn esta ceremonia reconoceremos a los 26 docentes distinguidos este año\, a quienes felicitamos efusivamente: \n\nJavier Francisco Del Río Ojeda\, Arquitectura \nMaría Irene Pardow Rojas\, Diseño \nDaniel Esteban Gallo Orrego\, Actuación y Creación Teatral \nMaría Del Pilar Hernández Arroyo\, Artes Visuales \nLucía María Debesa Arregui\, Derecho\nRicardo Gabriel Llancaman Yévenes\, Dirección y Gestión de Artes Culinarias\nPaula Andrea Santibáñez Palma\, Auditoría y Control de Gestión \nSebastián Nicolas Barrera Varas\, Ingeniería Comercial\nMaría Del Rosario Undurraga Riesco\, Ciencias de la Familia\nDiego Melero Pinto\, Pedagogía en Educación Básica\nNicolás Antonio Paraud Barrueto\, Programación Formación Pedagógica en Educación Media\nCristián Alejandro Prado Medel\, Pedagogía en Educación Parvularia\nClaudia Constanza Pizarro Cordero\, Psicología\nLuis Enrique Ahumada Madrid\, Formación General\nRaimundo Meneghello Matte\, Historia \nLoreto Estefanía Casanueva Reyes\, Literatura \nMaría Patricia Vildósola Errázuriz\, Periodismo \nCristóbal Plubins Von Chrismar\, Publicidad \nMaría José Naranjo De Lucca\, Ingeniería Civil Industrial \nVíctor Hugo Sotelo Herrera\, Ingeniería Civil Informática y Telecomunicaciones\nPatricio Alexis Díaz Espinosa\, Ingeniería Civil en Realidad Virtual y Videojuegos\nPilar Alejandra Busquets Losada\, Enfermería \nCristián Adolfo Mier Martínez\, Kinesiología  \nRodrigo Gastón Letelier Hernández\, Medicina \nMaría Francesca Conti Donoso\, Nutrición y Dietética \nMaría Fernanda Cortes Sylvester\, Odontología \n\n\n\n\n\n\nEn esta ocasión\, también se hará entrega del Premio a la Creación Artística 2024 de la U. Finis Terrae a la escultora Elisa Aguirre Robertson\, artista visual y académica de la Escuela de Artes Visuales de nuestra institución.\n\n\n\n\n\nAcompáñenos a celebrar el talento\, la dedicación y el impacto transformador de estos docentes en nuestra comunidad universitaria.
URL:https://finis.cl/agenda/premiacion-excelencia-docente-2024/
CATEGORIES:Centro de Innovación Docente,Vicerrectoría Académica
ATTACH;FMTTYPE=image/jpeg:https://finis.cl/wp-content/uploads/2025/07/Plantillas-fotos-agenda-29.jpg
END:VEVENT
BEGIN:VEVENT
DTSTART;TZID=America/Santiago:20250825T090000
DTEND;TZID=America/Santiago:20250827T130000
DTSTAMP:20260423T170224
CREATED:20250808T192815Z
LAST-MODIFIED:20250808T200302Z
UID:41413-1756112400-1756299600@finis.cl
SUMMARY:Impulsa tu Docencia 2025: talleres para docentes Finis de agosto
DESCRIPTION:Conoce la oferta de actividades de formación docente del mes de agosto\, organizadas por el Centro de Innovación Docente de la Dirección de Gestión y Desarrollo Académico. \nSabemos que el segundo semestre se perfila como un nuevo escenario para innovar\, reflexionar y fortalecer nuestras prácticas pedagógicas. Por eso\, queremos invitarles a distintas actividades y espacios diseñados para enriquecer el proceso de enseñanza aprendizaje\, siempre con foco en mejorar la experiencia educativa de nuestros/as estudiantes. \nLas inscripciones están disponibles a través del enlace correspondiente en la descripción de cada actividad. \n¡Te esperamos para seguir transformando juntos la docencia universitaria! \nPROGRAMA: \nLunes 25 de agosto de 10:00 a 13:00 hrs.\nHazlo Genial(ly): creatividad e interactividad en tu docencia\nINSCRIPCIONES ACÁ \nMiércoles 27 de agosto de 9:00 a 10:00 hrs.\n¡Actívate con un café! Postula con éxito: Diseña tu propuesta para los Fondos de Innovación Docente\nINSCRIPCIONES ACÁ \nMiércoles 27 de agosto de 10:00 a 13:00 hrs.\nProyectos que enseñan: estrategias activas para un aprendizaje significativo\nINSCRIPCIONES ACÁ
URL:https://finis.cl/agenda/oferta-de-talleres-y-desayuno-en-agosto-para-docentes/
LOCATION:Sala Cowork
CATEGORIES:Centro de Innovación Docente
ATTACH;FMTTYPE=image/jpeg:https://finis.cl/wp-content/uploads/2025/08/Plantillas-fotos-agenda-47.jpg
END:VEVENT
END:VCALENDAR