BEGIN:VCALENDAR
VERSION:2.0
PRODID:-//Universidad Finis Terrae - ECPv6.15.17.1//NONSGML v1.0//EN
CALSCALE:GREGORIAN
METHOD:PUBLISH
X-WR-CALNAME:Universidad Finis Terrae
X-ORIGINAL-URL:https://finis.cl
X-WR-CALDESC:Eventos para Universidad Finis Terrae
REFRESH-INTERVAL;VALUE=DURATION:PT1H
X-Robots-Tag:noindex
X-PUBLISHED-TTL:PT1H
BEGIN:VTIMEZONE
TZID:America/Santiago
BEGIN:STANDARD
TZOFFSETFROM:-0300
TZOFFSETTO:-0400
TZNAME:-04
DTSTART:20230402T030000
END:STANDARD
BEGIN:DAYLIGHT
TZOFFSETFROM:-0400
TZOFFSETTO:-0300
TZNAME:-03
DTSTART:20230903T040000
END:DAYLIGHT
BEGIN:STANDARD
TZOFFSETFROM:-0300
TZOFFSETTO:-0400
TZNAME:-04
DTSTART:20240407T030000
END:STANDARD
BEGIN:DAYLIGHT
TZOFFSETFROM:-0400
TZOFFSETTO:-0300
TZNAME:-03
DTSTART:20240908T040000
END:DAYLIGHT
BEGIN:STANDARD
TZOFFSETFROM:-0300
TZOFFSETTO:-0400
TZNAME:-04
DTSTART:20250406T030000
END:STANDARD
BEGIN:DAYLIGHT
TZOFFSETFROM:-0400
TZOFFSETTO:-0300
TZNAME:-03
DTSTART:20250907T040000
END:DAYLIGHT
END:VTIMEZONE
BEGIN:VEVENT
DTSTART;TZID=America/Santiago:20240318T090000
DTEND;TZID=America/Santiago:20240318T235900
DTSTAMP:20260424T173403
CREATED:20250715T154806Z
LAST-MODIFIED:20250715T154806Z
UID:40029-1710752400-1710806340@finis.cl
SUMMARY:Postulación Diplomado en Docencia Universitaria U. Finis Terrae: Primer semestre 2024
DESCRIPTION:El Centro de Innovación Docente (CID) de la Universidad Finis Terrae extendemos la invitación a  postular al Diplomado de Docencia Universitaria. \nEl Diplomado tiene como objetivo fortalecer competencias y habilidades para una docencia de calidad coherente con el proyecto educativo\, plan estratégico y la identidad de la universidad; y está dirigido a todos/as los/as docentes de nuestra casa de estudios. \nEl programa tiene cupos limitados y es gratuito para todos/as los académicos U. Finis Terrae. Las clases se realizan de manera presencial los jueves de 9:00 a 13:00 hrs. \nInicio de clases: 21 de marzo de 2024.\nPara consultas o dudas contactarse al correo innovaciondocente@uft.cl \nINSCRIPCIONES ACÁ.
URL:https://finis.cl/agenda/postulacion-diplomado-en-docencia-universitaria-u-finis-terrae-primer-semestre-2024/
CATEGORIES:Centro de Innovación Docente
END:VEVENT
BEGIN:VEVENT
DTSTART;TZID=America/Santiago:20240327T140000
DTEND;TZID=America/Santiago:20240327T235900
DTSTAMP:20260424T173403
CREATED:20250715T154752Z
LAST-MODIFIED:20250715T154752Z
UID:40008-1711548000-1711583940@finis.cl
SUMMARY:Calendario de talleres para docentes: Marzo y Abril
DESCRIPTION:Les enviamos a continuación la oferta de actividades abiertas del mes de enero del Centro de Innovación Docente de la Dirección de Gestión y Desarrollo Académico. \nEl Centro de Innovación Docente tiene como objetivo ofrecer de manera permanente diversos espacios de apoyo y formación en habilidades pedagógicas centradas en mejorar la calidad de los aprendizajes de nuestros estudiantes. \nDesayuno: \n¡Actualízate con un café! – Diseño Universal de Aprendizaje (DUA).\n2 de abril\, de 10:00 a 11:00 horas. Sala C102. \nInscríbete ACÁ \n¡Actívate con un café! aportes de la Inteligencia artificial al proceso de evaluación para el aprendizaje.\n30 de abril 10 a 11 hrs. Sala C102 \nInscríbete ACÁ \nTalleres \n¡Potencia el aprendizaje de tus estudiantes! Pasos para lograr una retroalimentación efectiva!\n27 de marzo – 14:00 a 17:00 hrs. \nInscríbete ACÁ \n¡Aprendizaje entre pares ¡todos/as tienen algo que aportar!\n10 de Abril de 14:00 a 17:00 hrs. Sala P403 \nInscríbete ACÁ \nDinamizar la clase magistral a través de quiebres activos.\n24 de abril 14:00 a 17:00 hrs. Sala P403 \nInscríbete ACÁ \n 
URL:https://finis.cl/agenda/calendario-de-talleres-para-docentes-marzo/
CATEGORIES:Centro de Innovación Docente,Vicerrectoría Académica
END:VEVENT
END:VCALENDAR