BEGIN:VCALENDAR
VERSION:2.0
PRODID:-//Universidad Finis Terrae - ECPv6.15.17.1//NONSGML v1.0//EN
CALSCALE:GREGORIAN
METHOD:PUBLISH
X-ORIGINAL-URL:https://finis.cl
X-WR-CALDESC:Eventos para Universidad Finis Terrae
REFRESH-INTERVAL;VALUE=DURATION:PT1H
X-Robots-Tag:noindex
X-PUBLISHED-TTL:PT1H
BEGIN:VTIMEZONE
TZID:America/Santiago
BEGIN:STANDARD
TZOFFSETFROM:-0300
TZOFFSETTO:-0400
TZNAME:-04
DTSTART:20230402T030000
END:STANDARD
BEGIN:DAYLIGHT
TZOFFSETFROM:-0400
TZOFFSETTO:-0300
TZNAME:-03
DTSTART:20230903T040000
END:DAYLIGHT
BEGIN:STANDARD
TZOFFSETFROM:-0300
TZOFFSETTO:-0400
TZNAME:-04
DTSTART:20240407T030000
END:STANDARD
BEGIN:DAYLIGHT
TZOFFSETFROM:-0400
TZOFFSETTO:-0300
TZNAME:-03
DTSTART:20240908T040000
END:DAYLIGHT
BEGIN:STANDARD
TZOFFSETFROM:-0300
TZOFFSETTO:-0400
TZNAME:-04
DTSTART:20250406T030000
END:STANDARD
BEGIN:DAYLIGHT
TZOFFSETFROM:-0400
TZOFFSETTO:-0300
TZNAME:-03
DTSTART:20250907T040000
END:DAYLIGHT
END:VTIMEZONE
BEGIN:VEVENT
DTSTART;TZID=America/Santiago:20240509T083000
DTEND;TZID=America/Santiago:20240509T235900
DTSTAMP:20260422T144049
CREATED:20250715T154623Z
LAST-MODIFIED:20250715T154623Z
UID:39924-1715243400-1715299140@finis.cl
SUMMARY:Cátedra Ampuero: “¿Cómo surge una novela?”
DESCRIPTION:¿Cómo surge una novela? Así se titula la primera edición de Cátedra Ampuero de la Universidad Finis Terrae\, que se realizará el jueves 9 de mayo\, a las 8:30 horas\, en el Club 50 (Av. El Golf 50\, Las Condes). \nEn el encuentro\, el escritor Roberto Ampuero y Javier Rodríguez\, director literario Penguin Random House\, conversarán sobre el arte de la ficción y su proceso editorial\, a partir del lanzamiento de “Nunca volveré a Berlín”\, última novela del director de Cátedra Ampuero. \nInscripciones con Guadalupe Irarrázaval / girarrazaval@uft.cl\nCupos limitados.
URL:https://finis.cl/agenda/catedra-ampuero-como-surge-una-novela/
CATEGORIES:Cátedra Ampuero,Extensión,Extensión Cultural
END:VEVENT
END:VCALENDAR