BEGIN:VCALENDAR
VERSION:2.0
PRODID:-//Universidad Finis Terrae - ECPv6.15.17.1//NONSGML v1.0//EN
CALSCALE:GREGORIAN
METHOD:PUBLISH
X-WR-CALNAME:Universidad Finis Terrae
X-ORIGINAL-URL:https://finis.cl
X-WR-CALDESC:Eventos para Universidad Finis Terrae
REFRESH-INTERVAL;VALUE=DURATION:PT1H
X-Robots-Tag:noindex
X-PUBLISHED-TTL:PT1H
BEGIN:VTIMEZONE
TZID:America/Santiago
BEGIN:STANDARD
TZOFFSETFROM:-0300
TZOFFSETTO:-0400
TZNAME:-04
DTSTART:20220403T030000
END:STANDARD
BEGIN:DAYLIGHT
TZOFFSETFROM:-0400
TZOFFSETTO:-0300
TZNAME:-03
DTSTART:20220911T040000
END:DAYLIGHT
BEGIN:STANDARD
TZOFFSETFROM:-0300
TZOFFSETTO:-0400
TZNAME:-04
DTSTART:20230402T030000
END:STANDARD
BEGIN:DAYLIGHT
TZOFFSETFROM:-0400
TZOFFSETTO:-0300
TZNAME:-03
DTSTART:20230903T040000
END:DAYLIGHT
BEGIN:STANDARD
TZOFFSETFROM:-0300
TZOFFSETTO:-0400
TZNAME:-04
DTSTART:20240407T030000
END:STANDARD
BEGIN:DAYLIGHT
TZOFFSETFROM:-0400
TZOFFSETTO:-0300
TZNAME:-03
DTSTART:20240908T040000
END:DAYLIGHT
END:VTIMEZONE
BEGIN:VEVENT
DTSTART;TZID=America/Santiago:20230822T083000
DTEND;TZID=America/Santiago:20230822T235900
DTSTAMP:20260423T053302
CREATED:20250715T155143Z
LAST-MODIFIED:20250715T155143Z
UID:40222-1692693000-1692748740@finis.cl
SUMMARY:Cátedra Ampuero: “Presidente Boric\, ¿qué cartas le quedan por jugar?”
DESCRIPTION:En esta oportunidad\, su director\, el escritor Roberto Ampuero\, analizará junto al sociólogo Pepe Auth los desafíos políticos y económicos del Gobierno\, y el plebiscito constitucional del 17 de diciembre próximo. \nLugar: Club 50\, Av. El Golf 50\, Las Condes. \nEstacionamientos disponibles. \nInscripciones: girarrazaval@uft.cl
URL:https://finis.cl/agenda/catedra-ampuero-presidente-boric-que-cartas-le-quedan-por-jugar/
CATEGORIES:Cátedra Ampuero,Extensión Cultural
END:VEVENT
END:VCALENDAR