BEGIN:VCALENDAR
VERSION:2.0
PRODID:-//Universidad Finis Terrae - ECPv6.15.17.1//NONSGML v1.0//EN
CALSCALE:GREGORIAN
METHOD:PUBLISH
X-ORIGINAL-URL:https://finis.cl
X-WR-CALDESC:Eventos para Universidad Finis Terrae
REFRESH-INTERVAL;VALUE=DURATION:PT1H
X-Robots-Tag:noindex
X-PUBLISHED-TTL:PT1H
BEGIN:VTIMEZONE
TZID:America/Santiago
BEGIN:STANDARD
TZOFFSETFROM:-0300
TZOFFSETTO:-0400
TZNAME:-04
DTSTART:20240407T030000
END:STANDARD
BEGIN:DAYLIGHT
TZOFFSETFROM:-0400
TZOFFSETTO:-0300
TZNAME:-03
DTSTART:20240908T040000
END:DAYLIGHT
BEGIN:STANDARD
TZOFFSETFROM:-0300
TZOFFSETTO:-0400
TZNAME:-04
DTSTART:20250406T030000
END:STANDARD
BEGIN:DAYLIGHT
TZOFFSETFROM:-0400
TZOFFSETTO:-0300
TZNAME:-03
DTSTART:20250907T040000
END:DAYLIGHT
BEGIN:STANDARD
TZOFFSETFROM:-0300
TZOFFSETTO:-0400
TZNAME:-04
DTSTART:20260405T030000
END:STANDARD
BEGIN:DAYLIGHT
TZOFFSETFROM:-0400
TZOFFSETTO:-0300
TZNAME:-03
DTSTART:20260906T040000
END:DAYLIGHT
END:VTIMEZONE
BEGIN:VEVENT
DTSTART;TZID=America/Santiago:20250812T100000
DTEND;TZID=America/Santiago:20250813T122500
DTSTAMP:20260423T135048
CREATED:20250728T135904Z
LAST-MODIFIED:20260331T193625Z
UID:40537-1754992800-1755087900@finis.cl
SUMMARY:Ciclo: “Travesía Alumni Finis Terrae”
DESCRIPTION:El ciclo de charlas Travesía Alumni reunirá a estudiantes\, titulados y profesionales en dos jornadas enfocadas en el desarrollo laboral y la proyección profesional. Será un espacio para fortalecer redes de contacto y conocer de primera fuente los desafíos del mundo laboral actual\, a través del testimonio y la experiencia de alumni que compartirán sus trayectorias profesionales y aprendizajes. \nPROGRAMA: 12 de agosto \nPanel Alumni: Experiencias y aprendizajes que inspiran \nPanel Alumni es un espacio de encuentro donde egresados de distintas disciplinas comparten sus experiencias profesionales\, trayectorias y aprendizajes. Una instancia inspiradora para conocer diferentes caminos laborales y fortalecer la conexión con nuestra Red Alumni Finis Terrae. \nLukas Veloso C. Ingeniero Comercial. Universidad Finis Terrae.\nCargo: Head of Revenue de Sheriff. \nCatalina Muñoz B. Psicóloga. Universidad Finis Terrae\nCargo: Analista de Formación y Desarrollo en Copec. \nMayra Sepúlveda. Ingeniera Civil Industrial. Universidad Finis Terrae\nCargo: Especialista de Planificación Estratégica en la Gerencia de Proyectos Relaves de la Vicepresidencia de Proyectos de Codelco. \nAlberto Inzulza G. Cirujano Dentista. Universidad Finis Terrae\nCargo: Asesor de Gabinete Subsecretaría de Salud Pública del Ministerio de Salud. \nÁngela Raimann C. Periodista. Universidad Finis Terrae\nCargo: Periodista del área de Comunicaciones Externas de la Contraloría General de la República. \nPROGRAMA: 13 de agosto \nTendencias Sociales y Laborales: Tecnología\, Innovación y Emprendimientos \nEste espacio reúne a expertos con trayectorias en talento\, innovación\, emprendimiento y tecnología\, para conversar sobre las tendencias que están marcando el futuro del trabajo y la sociedad. Una oportunidad para inspirarse\, aprender y proyectar nuevos caminos profesionales en diversas industrias. \nDaniella Girardi. Psicóloga. Universidad del Desarrollo\nCargo: Jefe de Atracción de Talentos en Anglo American. \nFernando Larraín. Ingeniero Comercial. Pontificia Universidad Católica\nCargo: Vicepresidente Ejecutivo Comunicaciones\, Marketing y Estudios en Santander Chile. \nFrancisco Aguirre. Ingeniero Comercial. Universidad Finis Terrae\nCargo: Director comercial y Fundador de Núcleo ODS. \nCristóbal Henríquez. Ingeniero Comercial. Universidad Finis Terrae\nCargo: Director General y Socio Fundador en Venture Capital.
URL:https://finis.cl/agenda/ciclo-travesia-alumni-finis-terrae/
LOCATION:Sala Cowork
CATEGORIES:Alumni,Ciclos
ATTACH;FMTTYPE=image/jpeg:https://finis.cl/wp-content/uploads/2025/07/Plantillas-fotos-agenda-30.jpg
END:VEVENT
BEGIN:VEVENT
DTSTART;TZID=America/Santiago:20250818T000100
DTEND;TZID=America/Santiago:20250829T235900
DTSTAMP:20260423T135048
CREATED:20250728T135905Z
LAST-MODIFIED:20250818T182208Z
UID:40538-1755475260-1756511940@finis.cl
SUMMARY:5ta Feria Laboral CUP 2025: Tu futuro profesional comienza aquí
DESCRIPTION:¿Estás listo para dar el siguiente gran paso en tu carrera? Del 18 al 29 de agosto te abrimos las puertas al evento que conecta el mejor talento con las empresas líderes del mercado. La 5ta edición de la Feria Laboral CUP\, en la que participa la Dirección de Alumni Finis Terrae\, es tu oportunidad para brillar e iniciar el camino profesional que esperas construir. \nConecta | Explora | Crece \nEste es más que un evento; es una experiencia diseñada para tu desarrollo. \nCONECTA: Establece contacto directo con reclutadores y representantes de las empresas más importantes. Amplía tu red profesional y conoce a otros talentos como tú.\nEXPLORA: Descubre cientos de oportunidades de empleo en una amplia variedad de sectores. Encuentra la oferta que mejor se adapta a tu perfil y aspiraciones.\nCRECE: Participa en charlas\, talleres y conferencias exclusivas que te darán las herramientas necesarias para destacar en el competitivo mundo laboral actual. Aprende de los expertos y potencia tus habilidades. \nMÁS INFORMACIÓN ACÁ
URL:https://finis.cl/agenda/5ta-feria-laboral-cup/
CATEGORIES:Alumni,CUP
ATTACH;FMTTYPE=image/jpeg:https://finis.cl/wp-content/uploads/2025/07/Foto-agendad.jpg
END:VEVENT
END:VCALENDAR