BEGIN:VCALENDAR
VERSION:2.0
PRODID:-//Universidad Finis Terrae - ECPv6.15.17.1//NONSGML v1.0//EN
CALSCALE:GREGORIAN
METHOD:PUBLISH
X-WR-CALNAME:Universidad Finis Terrae
X-ORIGINAL-URL:https://finis.cl
X-WR-CALDESC:Eventos para Universidad Finis Terrae
REFRESH-INTERVAL;VALUE=DURATION:PT1H
X-Robots-Tag:noindex
X-PUBLISHED-TTL:PT1H
BEGIN:VTIMEZONE
TZID:America/Santiago
BEGIN:STANDARD
TZOFFSETFROM:-0300
TZOFFSETTO:-0400
TZNAME:-04
DTSTART:20250406T030000
END:STANDARD
BEGIN:DAYLIGHT
TZOFFSETFROM:-0400
TZOFFSETTO:-0300
TZNAME:-03
DTSTART:20250907T040000
END:DAYLIGHT
BEGIN:STANDARD
TZOFFSETFROM:-0300
TZOFFSETTO:-0400
TZNAME:-04
DTSTART:20260405T030000
END:STANDARD
BEGIN:DAYLIGHT
TZOFFSETFROM:-0400
TZOFFSETTO:-0300
TZNAME:-03
DTSTART:20260906T040000
END:DAYLIGHT
BEGIN:STANDARD
TZOFFSETFROM:-0300
TZOFFSETTO:-0400
TZNAME:-04
DTSTART:20270404T030000
END:STANDARD
BEGIN:DAYLIGHT
TZOFFSETFROM:-0400
TZOFFSETTO:-0300
TZNAME:-03
DTSTART:20270905T040000
END:DAYLIGHT
END:VTIMEZONE
BEGIN:VEVENT
DTSTART;TZID=America/Santiago:20260516T090000
DTEND;TZID=America/Santiago:20260516T100000
DTSTAMP:20260424T170022
CREATED:20260420T203114Z
LAST-MODIFIED:20260420T203114Z
UID:52939-1778922000-1778925600@finis.cl
SUMMARY:Ensayo PAES Presencial
DESCRIPTION:Invitamos a estudiantes de 3.º y 4.º medio a vivir la experiencia real de la prueba con nuestro ensayo gratuito y presencial. Durante esta jornada\, podrán rendir la evaluación de Competencia Lectora y elegir entre Matemática (M1) o Ciencias (mención Biología)\, destacando como una de las pocas instancias para ensayar esta mención específica en condiciones reales. \nINSCRIPCIONES ACÁ \n  \n\nInscripciones hasta el miércoles 13 de mayo.
URL:https://finis.cl/agenda/ensayo-paes-presencial-2/
LOCATION:Universidad Finis Terrae
CATEGORIES:Admisión,U. Finis Terrae
ATTACH;FMTTYPE=image/jpeg:https://finis.cl/wp-content/uploads/2026/04/Agenda-web-60.jpg
END:VEVENT
END:VCALENDAR