BEGIN:VCALENDAR
VERSION:2.0
PRODID:-//Universidad Finis Terrae - ECPv6.15.17.1//NONSGML v1.0//EN
CALSCALE:GREGORIAN
METHOD:PUBLISH
X-WR-CALNAME:Universidad Finis Terrae
X-ORIGINAL-URL:https://finis.cl
X-WR-CALDESC:Eventos para Universidad Finis Terrae
REFRESH-INTERVAL;VALUE=DURATION:PT1H
X-Robots-Tag:noindex
X-PUBLISHED-TTL:PT1H
BEGIN:VTIMEZONE
TZID:America/Santiago
BEGIN:STANDARD
TZOFFSETFROM:-0300
TZOFFSETTO:-0400
TZNAME:-04
DTSTART:20220403T030000
END:STANDARD
BEGIN:DAYLIGHT
TZOFFSETFROM:-0400
TZOFFSETTO:-0300
TZNAME:-03
DTSTART:20220911T040000
END:DAYLIGHT
BEGIN:STANDARD
TZOFFSETFROM:-0300
TZOFFSETTO:-0400
TZNAME:-04
DTSTART:20230402T030000
END:STANDARD
BEGIN:DAYLIGHT
TZOFFSETFROM:-0400
TZOFFSETTO:-0300
TZNAME:-03
DTSTART:20230903T040000
END:DAYLIGHT
BEGIN:STANDARD
TZOFFSETFROM:-0300
TZOFFSETTO:-0400
TZNAME:-04
DTSTART:20240407T030000
END:STANDARD
BEGIN:DAYLIGHT
TZOFFSETFROM:-0400
TZOFFSETTO:-0300
TZNAME:-03
DTSTART:20240908T040000
END:DAYLIGHT
END:VTIMEZONE
BEGIN:VEVENT
DTSTART;TZID=America/Santiago:20231019T093000
DTEND;TZID=America/Santiago:20231019T183000
DTSTAMP:20260425T195427
CREATED:20250715T154944Z
LAST-MODIFIED:20250715T154944Z
UID:40108-1697707800-1697740200@finis.cl
SUMMARY:Clases magistrales de actuación y movimiento para estudiantes de actuación de la Escuela de Teatro\, U. Finis Terrae y actores profesionales socios de ChileActores\, impartidas por profesores del prestigioso Instituto Ruso de Arte Teatral GITIS
DESCRIPTION:Por primera vez en la Escuela de Teatro de la U. Finis Terrae\, se dictarán 2 clases magistrales excepcionales diseñadas específicamente para estudiantes y actores profesionales que buscan llevar su arte al siguiente nivel. Esta es una oportunidad única para sumergirse en las enseñanzas de Konstantin Stanislavsky\, una de las figuras más influyentes en la historia del teatro mundial\, y aprender de distinguidos profesores del prestigioso Instituto Ruso de Arte Teatral GITIS. \nPROGRAMA: \nTaller de actuación práctico: Técnica interna de actuación basada en las enseñanzas de Stanislavsky: atención\, imaginación\, comunicación circunstancial\, memoria emocional.\nHorario:  9.30 a 13.00 horas.\nLugar: Edificio Amberes Norte piso -2\, Escuela de Teatro\, Taller 11 \nTaller de movimiento de actuación práctico: desarrollo de las habilidades de actuación en movimiento: pelea escénica\, caídas\, saltos\, etc.\nHorario: 15.00 a 18.30 horas\nLugar: Edificio Amberes Norte piso -2\, Escuela de Teatro\, Taller 11 \nPROFESORES: \nBelousov Taras Dmitrievich\, Decano y profesor titular del Departamento de Actuación. \nClase magistral sobre actuación. \nZakirov Aidar Zagitovich\, Jefe y profesor del departamento de plasticidad escénica. \nClase magistral sobre movimiento escénico. \n 
URL:https://finis.cl/agenda/clases-magistrales-de-actuacion-y-movimiento-para-estudiantes-de-actuacion-de-la-escuela-de-teatro-u-finis-terrae-y-actores-profesionales-socios-de-chileactores-impartidas-por-profesores-del-p/
CATEGORIES:Actuación
END:VEVENT
END:VCALENDAR