BEGIN:VCALENDAR
VERSION:2.0
PRODID:-//Universidad Finis Terrae - ECPv6.15.17.1//NONSGML v1.0//EN
CALSCALE:GREGORIAN
METHOD:PUBLISH
X-WR-CALNAME:Universidad Finis Terrae
X-ORIGINAL-URL:https://finis.cl
X-WR-CALDESC:Eventos para Universidad Finis Terrae
REFRESH-INTERVAL;VALUE=DURATION:PT1H
X-Robots-Tag:noindex
X-PUBLISHED-TTL:PT1H
BEGIN:VTIMEZONE
TZID:America/Santiago
BEGIN:STANDARD
TZOFFSETFROM:-0300
TZOFFSETTO:-0400
TZNAME:-04
DTSTART:20220403T030000
END:STANDARD
BEGIN:DAYLIGHT
TZOFFSETFROM:-0400
TZOFFSETTO:-0300
TZNAME:-03
DTSTART:20220911T040000
END:DAYLIGHT
BEGIN:STANDARD
TZOFFSETFROM:-0300
TZOFFSETTO:-0400
TZNAME:-04
DTSTART:20230402T030000
END:STANDARD
BEGIN:DAYLIGHT
TZOFFSETFROM:-0400
TZOFFSETTO:-0300
TZNAME:-03
DTSTART:20230903T040000
END:DAYLIGHT
BEGIN:STANDARD
TZOFFSETFROM:-0300
TZOFFSETTO:-0400
TZNAME:-04
DTSTART:20240407T030000
END:STANDARD
BEGIN:DAYLIGHT
TZOFFSETFROM:-0400
TZOFFSETTO:-0300
TZNAME:-03
DTSTART:20240908T040000
END:DAYLIGHT
END:VTIMEZONE
BEGIN:VEVENT
DTSTART;TZID=America/Santiago:20230825T150000
DTEND;TZID=America/Santiago:20230825T235900
DTSTAMP:20260425T230409
CREATED:20250715T155057Z
LAST-MODIFIED:20250715T155057Z
UID:40202-1692975600-1693007940@finis.cl
SUMMARY:Muestra: “Fuera los seconds”
DESCRIPTION:Miguel Benedicto Hernandez\, ex boxeador y actual alcohólico\, batalla contra los demonios de su pasado mientras intenta criar a su hija… “¿Hija? ¿Qué hija? Yo no tengo hija. Mi hijo se llama Miguel\, el Miguel chico” .\n\nEn un relato lleno de violencia observaremos a estos personajes encerrados en su realidad y sus dinámicas que solo terminarán por condenarlos a perpetuar el círculo de violencia en el que están atrapados.\n\nFICHA ARTÍSTICA:\nDRAMATURGIA: Jorge Benavides\nDIRECCIÓN: Isidora Urzúa (UC)\nDISEÑO ESCÉNICO: Oriana Bustamante (U. Finis Terrae)  ELENCO: Vicente González (UC) – Fabián Martínez (U. Finis Terrae) – Juan José Muggli (U. Finis Terrae) PRODUCCIÓN: Federica Larraín (UC) DISEÑO DE ILUMINACIÓN: Matías Cortés (UC).\n\nINSCRIPCIONES ACÁ
URL:https://finis.cl/agenda/muestra-fuera-los-seconds/
CATEGORIES:Actuación,Facultad de Artes
END:VEVENT
END:VCALENDAR