BEGIN:VCALENDAR
VERSION:2.0
PRODID:-//Universidad Finis Terrae - ECPv6.15.17.1//NONSGML v1.0//EN
CALSCALE:GREGORIAN
METHOD:PUBLISH
X-WR-CALNAME:Universidad Finis Terrae
X-ORIGINAL-URL:https://finis.cl
X-WR-CALDESC:Eventos para Universidad Finis Terrae
REFRESH-INTERVAL;VALUE=DURATION:PT1H
X-Robots-Tag:noindex
X-PUBLISHED-TTL:PT1H
BEGIN:VTIMEZONE
TZID:America/Santiago
BEGIN:STANDARD
TZOFFSETFROM:-0300
TZOFFSETTO:-0400
TZNAME:-04
DTSTART:20250406T030000
END:STANDARD
BEGIN:DAYLIGHT
TZOFFSETFROM:-0400
TZOFFSETTO:-0300
TZNAME:-03
DTSTART:20250907T040000
END:DAYLIGHT
BEGIN:STANDARD
TZOFFSETFROM:-0300
TZOFFSETTO:-0400
TZNAME:-04
DTSTART:20260405T030000
END:STANDARD
BEGIN:DAYLIGHT
TZOFFSETFROM:-0400
TZOFFSETTO:-0300
TZNAME:-03
DTSTART:20260906T040000
END:DAYLIGHT
BEGIN:STANDARD
TZOFFSETFROM:-0300
TZOFFSETTO:-0400
TZNAME:-04
DTSTART:20270404T030000
END:STANDARD
BEGIN:DAYLIGHT
TZOFFSETFROM:-0400
TZOFFSETTO:-0300
TZNAME:-03
DTSTART:20270905T040000
END:DAYLIGHT
END:VTIMEZONE
BEGIN:VEVENT
DTSTART;TZID=America/Santiago:20260312T203000
DTEND;TZID=America/Santiago:20260322T220000
DTSTAMP:20260424T042659
CREATED:20260309T193058Z
LAST-MODIFIED:20260331T193642Z
UID:50142-1773347400-1774216800@finis.cl
SUMMARY:Teatro Finis Terrae: “La pequeña historia de Chile”
DESCRIPTION:Ciclo Homenaje a Marco Antonio de la Parra. La Temporada 2026 del Teatro Finis Terrae abre con un ciclo de dos obras del destacado dramaturgo en homenaje a su larga trayectoria. Tras su éxito el año pasado\, vuelve La pequeña Historia de Chile bajo la dirección de Francisco Krebs. La obra aborda desde el humor negro una perspectiva crítica de la educación pública y la construcción de la identidad nacional. \n\n\n\nLuego del rotundo éxito el año pasado\, donde congregó a más de 4000 espectadores y llenó en el festival Teatro a Mil\, esta aplaudida versión escénica de la Finis Terrae mantiene vigente su reflexión sobre la crisis de la educación\, el olvido y la historia que nos define\, a más de 30 años de su creación original. \nEn La pequeña Historia de Chile cinco profesores habitan una sala de clases vacía\, poblada sólo por pupitres. No sabemos si los profesores están vivos o muertos y el liceo parece más un naufragio que un instituto. \nLa obra surge como el relato imposible de nuestra historia y el maltrato del oficio de maestro\, en una circunstancia delirante\, donde el caos ha reemplazado el orden y los alumnos han desaparecido. \nCon dramaturgia del premiado dramaturgo Marco Antonio de la Parra\, este montaje dirigido por Francisco Krebs permite\, desde el humor negro\, enfrentarnos y contrastarnos con problemas que siguen estando presentes en nuestra vida actual. \nLa creación de esta Producción Finis Terrae fue parte del Programa Apoyo a los Teatros Universitarios 2025 del Ministerio de las Culturas\, las Artes y el Patrimonio. \nFunciones\nDel 12 al 22 de marzo\nJueves y viernes a las 20:30 hrs.\nSábado y Domingo a las 19 hrs. \nValores\n$15.000 GENERAL\n$7.500 PREVENTA 1\n$11.500 PREVENTA 2\n$7.500 SUPER JUEVES\n$7.500 ESTUDIANTES\n$9.000 ADULTO MAYOR \n\nVenta de entradas: www.teatrofinisterrae.cl
URL:https://finis.cl/agenda/teatro-finis-terrae-la-pequena-historia-de-chile/
LOCATION:Teatro Finis Terrae\, Av. Pedro de Valdivia 1509\, Santiago\, Providencia\, 7500986\, Chile
CATEGORIES:Ciclos,Comunidad Finis Terrae,Teatro Finis Terrae,U. Finis Terrae,Universidad,Vicerrectoría de Vinculación
ATTACH;FMTTYPE=image/webp:https://finis.cl/wp-content/uploads/2026/03/Agenda-web-_11_.webp
END:VEVENT
BEGIN:VEVENT
DTSTART;TZID=America/Santiago:20260316T080000
DTEND;TZID=America/Santiago:20260327T180000
DTSTAMP:20260424T042659
CREATED:20260316T155716Z
LAST-MODIFIED:20260316T155716Z
UID:50416-1773648000-1774634400@finis.cl
SUMMARY:Campaña Solidaria de Huevos de Chocolate
DESCRIPTION:¡Regalemos alegría esta Pascua! \nLas Direcciones de Compromiso Social y Pastoral invitan a ser parte de nuestra Campaña Solidaria de Huevos de Chocolate\, una iniciativa que busca llevar un momento de alegría a niños y niñas de jardines infantiles vulnerables de la comuna de Lampa\, en el contexto de la Pascua de Resurrección. \nLugar: Oficinas de Pastoral o Compromiso Social.
URL:https://finis.cl/agenda/campana-solidaria-de-huevos-de-chocolate/
LOCATION:Oficina Dirección de Pastoral
CATEGORIES:Compromiso social,Estudiantes,Pastoral
ATTACH;FMTTYPE=image/webp:https://finis.cl/wp-content/uploads/2026/03/easter_eggs_11zon.webp
END:VEVENT
BEGIN:VEVENT
DTSTART;TZID=America/Santiago:20260316T080000
DTEND;TZID=America/Santiago:20260626T170000
DTSTAMP:20260424T042659
CREATED:20260311T182211Z
LAST-MODIFIED:20260311T191711Z
UID:50266-1773648000-1782493200@finis.cl
SUMMARY:Talleres Psicoeducativos
DESCRIPTION:Te invitamos a participar en nuestros talleres diseñados para que puedas organizarte mejor y explorar nuevas técnicas de estudio. Además\, podrás conocer todos los apoyos académicos a los que puedes acceder durante tu etapa universitaria \nInscripción ACÁ \nFechas: \nInicio: lunes 16 de marzo – término: 26 de junio \nLugar: \nOficina Trayectoria Estudiantil\, edificio Amberes Sur\, piso -1\, al costado de la escalera
URL:https://finis.cl/agenda/talleres-psicoeducativos/
LOCATION:Universidad Finis Terrae
CATEGORIES:Asuntos Estudiantiles,Estudiantes,Trayectorias,Vida universitaria
ATTACH;FMTTYPE=image/webp:https://finis.cl/wp-content/uploads/2026/03/Agenda-web-_14_.webp
END:VEVENT
BEGIN:VEVENT
DTSTART;TZID=America/Santiago:20260319T080000
DTEND;TZID=America/Santiago:20260702T170000
DTSTAMP:20260424T042659
CREATED:20260126T144405Z
LAST-MODIFIED:20260331T193613Z
UID:49377-1773907200-1783011600@finis.cl
SUMMARY:Ciclo de charlas 2026 "La experiencia humana en crisis y plenitud: Una mirada desde una psicología integral"
DESCRIPTION:El ciclo de charlas “La experiencia humana en crisis y plenitud: una mirada desde la psicología integral” propone un espacio de reflexión interdisciplinar en torno a algunos de los padecimientos psicológicos más frecuentes de la experiencia humana en la actualidad. Desde el diálogo entre filosofía y psicología\, busca comprender y distinguir los desórdenes sensibles y racionales\, así como los caminos hacia la plenitud y trascendencia. El ciclo será desarrollado por psicólogos y académicos nacionales e internacionales\, con experiencia en los ámbitos clínico y educacional. \nINSCRIPCIONES ACÁ \n*Puedes acceder a cada coloquio por separado\, por un valor de $10.000 o al ciclo completo de 13 por $100.000. \nPROGRAMA: \nJueves 19 de marzo: “La enfermedad de la cultura: Ideología y psicopatología”\nJoan Joanola\nUniversidad Abat Oliva \nJueves 26 de marzo: “Adicciones del siglo XXI: El deseo en la pornografía y las pantallas”\nStefano Parenti / Victoria Saver\nFundación Family Care / Universidad Finis Terrae \nJueves 09 de abril: “¿Qué es el trauma?: Una mirada desde la Psicología Integral de la Persona”\nManuela Pinzón\nUniversidad Finis Terrae \nJueves 16 de abril: “Ser o no ser: El dilema de la obsesión”\nPablo Verdier\nUniversidad Finis Terrae \nJueves 23 de abril: “El desorden de la ira y el rol de los impulsos: una comprensión desde la psicología integral”\nKlaus Droste\nUniversidad San Sebastián \nJueves 30 de abril: “Más allá del diagnóstico de Trastorno de Personalidad: una mirada desde la psicología integral”\nBenjamín Suazo\nUniversidad Finis Terrae \nJueves 07 de mayo: “El deseo de desaparecer: Comprensión integral de la ideación suicida”\nPatricio Gutiérrez\nUniversidad Finis Terrae \nJueves 14 de mayo: “La fatiga de existir: De la acedia a la neurosis noógena”\nSantiago Vázquez\nUniversidad Nacional de Cuyo \nJueves 28 de mayo: “La decisión de perdonar: Afectividad\, razón y voluntad”\nMaría Jesús Quiroga\nUniversidad Finis Terrae \nJueves 11 de junio: “¿Somos realmente felices?: Un análisis desde la cultura contemporánea”\nRomain de Chateauvieux\nFundación Misericordia \nJueves 18 de junio: “El sufrimiento humano y el valor de la esperanza”\nP. Basil Darker\nOrden de los Ministros de los Enfermos \nJueves 25 de junio: “Cuidar para sanar: Psicología clínica al servicio de la Iglesia”\nJosefina Cañas\nUniversidad Finis Terrae \nJueves 02 de julio: “La amistad matrimonial como plenitud de la existencia humana”\nKlaus Droste\nUniversidad San Sebastián
URL:https://finis.cl/agenda/ciclo-de-charlas-2026-la-experiencia-humana-en-crisis-y-plenitud-una-mirada-desde-una-psicologia-integral/
LOCATION:Online
CATEGORIES:Ciclos,Facultad de Educación y Ciencias Sociales,Psicología,Universidad
ATTACH;FMTTYPE=image/jpeg:https://finis.cl/wp-content/uploads/2026/01/Agenda-web-3.jpg
END:VEVENT
BEGIN:VEVENT
DTSTART;TZID=America/Santiago:20260320T160000
DTEND;TZID=America/Santiago:20260320T170000
DTSTAMP:20260424T042659
CREATED:20260305T204111Z
LAST-MODIFIED:20260310T134821Z
UID:50092-1774022400-1774026000@finis.cl
SUMMARY:Seminario NIDO. Nuevos Imaginarios de la Domesticidad. “Siniestra Doméstica”
DESCRIPTION:El Seminario NIDO busca reflexionar sobre el espacio doméstico desde perspectivas críticas\, creativas e interdisciplinarias. Sesión de marzo 2026 La domesticidad ha sido tradicionalmente asociada a valores de estabilidad\, familiaridad y rutina\, configurados por convenciones sociales\, costumbres y modos de habitar propios de la vida burguesa. Sin embargo\, diversos procesos culturales y arquitectónicos vinculados a la modernidad introdujeron tensiones que desestabilizaron estos supuestos. \nEsta presentación examina cómo ciertas estrategias espaciales\, estéticas y conceptuales transformaron el interior doméstico\, incorporando dimensiones que pueden leerse desde la noción de lo Unheimlich\, lo no hogareño o inquietante. A partir de esta perspectiva\, se propone revisar críticamente algunos episodios de la arquitectura para comprender cómo estas perturbaciones han influido en la construcción de nuestras formas contemporáneas de habitar lo doméstico. \n\nEXPONE:\n\nGonzalo Carrasco\, Doctor en Arquitectura y Estudios Urbanos. Académico PUC \n\nORGANIZA:\n\nEscuela de Literatura U. Finis Terrae\nDoctorado Interdisciplinario en Humanidades\nFondecyt Regular N° N°1241063 “Imaginarios domésticos en la narrativa femenina contemporánea de herencia fantástica en Hispanoamérica”
URL:https://finis.cl/agenda/seminario-nido-nuevos-imaginarios-de-la-domesticidad-siniestra-domestica/
LOCATION:Sala Pablo Baraona
ATTACH;FMTTYPE=image/webp:https://finis.cl/wp-content/uploads/2026/03/Agenda-web-_10_.webp
END:VEVENT
END:VCALENDAR